BEGIN:VCALENDAR
VERSION:2.0
PRODID:-//ChamberMaster//Event Calendar 2.0//EN
METHOD:PUBLISH
X-PUBLISHED-TTL:P3D
REFRESH-INTERVAL:P3D
CALSCALE:GREGORIAN
BEGIN:VEVENT
DTSTART:20180510T220000Z
DTEND:20180510T233000Z
X-MICROSOFT-CDO-ALLDAYEVENT:FALSE
SUMMARY:Your Posture: A Window Into Your Health and Wellness Future
DESCRIPTION:Dr. Gary Weinstein\, from The Wellness Champions\,\n\nwill be presenting on how correct posture can directly enhance your health\, life and well-being.\n\n\n\nIn contrast\, this presentation will also discuss how poor posture may be the onset of devastating future health conditions. \n\n\n\nAll attendees will have the opportunity to receive a complimentary\, no obligation\, posture and health check up.
X-ALT-DESC;FMTTYPE=text/html:<div style="text-align: center\;"><br />\n<span style="font-size:22px\;"><span style="font-family:arial\;">Dr. Gary Weinstein\, from The Wellness Champions\,<br />\nwill be presenting on how correct posture can directly enhance your health\, life and well-being.<br />\n<br />\nIn contrast\, this presentation will also discuss how poor posture may be the onset of devastating future health conditions.&nbsp\;<br />\n<br />\nAll attendees will have the opportunity to receive a complimentary\, no obligation\, posture and health check up.</span></span></div>\n
LOCATION:Western Allegheny Community Library 181 Bateman Road Oakdale\, PA 15071
UID:e.2803.2953
SEQUENCE:3
DTSTAMP:20260422T074821Z
URL:https://www.paacc.com/events/details/your-posture-a-window-into-your-health-an-wellness-future-2953
END:VEVENT

END:VCALENDAR
