BEGIN:VCALENDAR
VERSION:2.0
PRODID:-//ChamberMaster//Event Calendar 2.0//EN
METHOD:PUBLISH
X-PUBLISHED-TTL:P3D
REFRESH-INTERVAL:P3D
CALSCALE:GREGORIAN
BEGIN:VEVENT
DTSTART:20180614T190000Z
DTEND:20180614T230000Z
X-MICROSOFT-CDO-ALLDAYEVENT:FALSE
SUMMARY:West Homestead Farmer's Market at The Waterfront
DESCRIPTION:The West Homestead Farmer's Market is located at The Waterfront\, under the Homestead Grays Bridge\, alongside Barnes and Noble.\n\n\n\nThe market will be open\n\nevery Thursday from 3 - 7 p.m.
X-ALT-DESC;FMTTYPE=text/html:<div style="text-align: center\;"><br />\n<span style="font-size:22px\;"><span style="font-family:arial\;"><strong>The West Homestead Farmer&#39\;s Market is located at The Waterfront\, under the Homestead Grays Bridge\, alongside Barnes and Noble.<br />\n<br />\nThe market will be open<br />\nevery Thursday from&nbsp\;3 - 7 p.m.</strong></span></span></div>\n
LOCATION:The Waterfront 149 West Bridge Street Homestead\, PA 15120
UID:e.2803.6187
SEQUENCE:3
DTSTAMP:20260422T201456Z
URL:https://www.paacc.com/events/details/west-homestead-farmer-s-market-at-the-waterfront-6187
END:VEVENT

END:VCALENDAR
