BEGIN:VCALENDAR
VERSION:2.0
PRODID:-//ChamberMaster//Event Calendar 2.0//EN
METHOD:PUBLISH
X-PUBLISHED-TTL:P3D
REFRESH-INTERVAL:P3D
CALSCALE:GREGORIAN
BEGIN:VEVENT
DTSTART:20180621T230000Z
DTEND:20180622T010000Z
X-MICROSOFT-CDO-ALLDAYEVENT:FALSE
SUMMARY:West Hills Art League Monthly Meeting
DESCRIPTION:West Hills Art League is a group of artists\, both seasoned professional and passionate beginners\, residing west of Pittsburgh\, Pennsylvania.  The West Hills artists are as diverse in their media as they are in expressing their creative voice. You'll find a wide array of art interests ranging from traditional watercolors and oils\, to landscapes in acrylics\, portraits in pastel\, sculptures in clay and so much more! Join us each month at Robin Hill as we welcome guest artist speakers who share their expertise with members and guests at our monthly meetings.
X-ALT-DESC;FMTTYPE=text/html:<p>West Hills Art League&nbsp\;is a&nbsp\;group of artists\, both seasoned professional and&nbsp\;passionate beginners\, residing west of Pittsburgh\, Pennsylvania.&nbsp\; The West Hills artists are as diverse in their media as they are in expressing their creative voice. You&#39\;ll find a wide&nbsp\;array&nbsp\;of art interests ranging from traditional watercolors and oils\, to landscapes in acrylics\, portraits in&nbsp\;pastel\, sculptures in clay and so much more!&nbsp\;Join us each month at Robin Hill as we welcome guest artist speakers&nbsp\;who share their expertise with members and guests at our monthly meetings.<br />\n<br />\n&nbsp\;</p>\n\n<p>&nbsp\;</p>\n\n<p>&nbsp\;</p>\n
LOCATION:Robin Hill Park 949 Thorn Run Road Moon Township\, PA 15108
UID:e.2803.2775
SEQUENCE:3
DTSTAMP:20260422T202428Z
URL:https://www.paacc.com/events/details/west-hills-art-league-monthly-meeting-06-21-2018-2775
END:VEVENT

END:VCALENDAR
