BEGIN:VCALENDAR
VERSION:2.0
PRODID:-//ChamberMaster//Event Calendar 2.0//EN
METHOD:PUBLISH
X-PUBLISHED-TTL:P3D
REFRESH-INTERVAL:P3D
CALSCALE:GREGORIAN
BEGIN:VEVENT
DTSTART:20190512T170000Z
DTEND:20190512T200000Z
X-MICROSOFT-CDO-ALLDAYEVENT:FALSE
SUMMARY:West Hills Art League Annual Art Exhibit And Sale Artists’ Reception
DESCRIPTION:A very special way to spend Mother's Day!\n\n\n\nJoin us on Sunday\, May 12 from 1-4pm at Robin Hill for the West Hills Art League Annual Mother's Day Art Show and Sale! A gift of a handmade bookmark for attendees while they last.\n\n\n\nMore info can be found at www.westhillsartleague.com\n\n\n\nRobin Hill is located at 949 Thorn Run Road\, Moon Township\, PA 15108
X-ALT-DESC;FMTTYPE=text/html:<span style="font-size:16px"><em><strong>A very special way to spend Mother&#39\;s Day!</strong></em></span><br />\n<br />\nJoin us on Sunday\, May 12 from 1-4pm at Robin Hill for the West Hills Art League Annual Mother&#39\;s Day Art Show and Sale! A gift of a handmade bookmark for attendees while they last.<br />\n<br />\nMore info can be found at <a href="http://www.westhillsartleague.com/?fbclid=IwAR1RNsG8ngs9QR2sCVHk0QfxtVEtZre0j7vFDbtJgAKn2LDcn2KmMcIoWu4" rel="noopener nofollow" target="_blank">www.westhillsartleague.com</a><br />\n<br />\nRobin Hill is located at 949 Thorn Run Road\, Moon Township\, PA 15108<br />\n<br />\n&nbsp\;
LOCATION:Robin Hill 949 Thorn Run Road Moon Township\, PA 15108
UID:e.2803.6458
SEQUENCE:3
DTSTAMP:20260422T204348Z
URL:https://www.paacc.com/events/details/west-hills-art-league-annual-art-exhibit-and-sale-artists-reception-6458
END:VEVENT

END:VCALENDAR
