BEGIN:VCALENDAR
VERSION:2.0
PRODID:-//ChamberMaster//Event Calendar 2.0//EN
METHOD:PUBLISH
X-PUBLISHED-TTL:P3D
REFRESH-INTERVAL:P3D
CALSCALE:GREGORIAN
BEGIN:VEVENT
DTSTART:20260522T220000Z
DTEND:20260523T020000Z
X-MICROSOFT-CDO-ALLDAYEVENT:FALSE
SUMMARY:Toast To The Town Gala
DESCRIPTION:A fundraiser for The CLG Foundation that is a 501(c)(3) nonprofit organization dedicated to uplifting disadvantaged youth across the Greater Pittsburgh region. The Foundation provides entrepreneurial education\, mentorship and scholarship support to help young people see what's possible\, and build the confidence to pursue it. Sponsorship opportunities available.
X-ALT-DESC;FMTTYPE=text/html:A fundraiser for The CLG Foundation that is a 501(c)(3) nonprofit organization dedicated to uplifting disadvantaged youth across the Greater Pittsburgh region. The Foundation provides entrepreneurial education\, mentorship and scholarship support to help young people see what&rsquo\;s possible\, and build the confidence to pursue it. Sponsorship opportunities available.
LOCATION:Sheraton Station Square 300 W. Station Square Drive Pittsburgh\, PA 15219
UID:e.2803.8900
SEQUENCE:3
DTSTAMP:20260423T190153Z
URL:https://www.paacc.com/events/details/toast-to-the-town-gala-8900
END:VEVENT

END:VCALENDAR
