BEGIN:VCALENDAR
VERSION:2.0
PRODID:-//ChamberMaster//Event Calendar 2.0//EN
METHOD:PUBLISH
X-PUBLISHED-TTL:P3D
REFRESH-INTERVAL:P3D
CALSCALE:GREGORIAN
BEGIN:VEVENT
DTSTART:20180509T020000Z
DTEND:20180510T200000Z
X-MICROSOFT-CDO-ALLDAYEVENT:FALSE
SUMMARY:The Journey of Landscape Painting With Russell Recchion
DESCRIPTION:Join award-winning landscape painter\,\n\nRussell Recchion\, for a\n\nthree-day workshop at Gilberti Fine Art.\n\n\n\nLearn to quickly block in a landscape directly with emphasis on color development\, composition and techniques on achieving atmospheric perspective.\n\n\n\nCreate stunning landscapes with an impact!\n\n\n\nThis class is suitable for acrylics\, oils and pastels.
X-ALT-DESC;FMTTYPE=text/html:&nbsp\;\n<div style="text-align: center\;"><span style="font-size:22px\;"><span style="font-family:arial\;">Join award-winning landscape painter\,<br />\nRussell Recchion\,&nbsp\;for a<br />\nthree-day workshop at Gilberti Fine Art.<br />\n<br />\nLearn to quickly block in a landscape directly with emphasis on color development\, composition and techniques on achieving atmospheric perspective.<br />\n<br />\nCreate stunning landscapes with an impact!<br />\n<br />\nThis class is suitable for acrylics\, oils and pastels.</span></span></div>\n
LOCATION:Gilberti Fine Art Studio & Gallery 1030 Fifth Avenue Coraopolis\, PA 15108
UID:e.2803.2960
SEQUENCE:3
DTSTAMP:20260422T215841Z
URL:https://www.paacc.com/events/details/the-journey-of-landscape-painting-with-russell-recchion-2960
END:VEVENT

END:VCALENDAR
