BEGIN:VCALENDAR
VERSION:2.0
PRODID:-//ChamberMaster//Event Calendar 2.0//EN
METHOD:PUBLISH
X-PUBLISHED-TTL:P3D
REFRESH-INTERVAL:P3D
CALSCALE:GREGORIAN
BEGIN:VEVENT
DTSTART:20180111T130000Z
DTEND:20180111T173000Z
X-MICROSOFT-CDO-ALLDAYEVENT:FALSE
SUMMARY:The Art of Letting Go ~ Organizing Tips and Tricks from the Pros
DESCRIPTION:NAPO Pittsburgh's Organizing Symposium \n\nThe Art of Letting Go \n\nOrganizing Tips and Tricks from the Pros\n\n~~~~~~~~~~~~~~~~~~~~~~~~\n\n \n\nProgram Agenda:\n\n8:00 Registration & Breakfast\n\n9:00 Keynote James Lott Jr aka "The Super Organizer"\n\n9:20 Ask the Organizer panel discussions & Visit with NAPO Business Partners and Professional Organizers\n\n12:15 Closing remarks & raffle drawings\n\n12:30 Adjourn\n\n\n\nClick Here for More Details
X-ALT-DESC;FMTTYPE=text/html:<h1 style="text-align: center\;">&nbsp\;<br />\n<span style="font-size:15.0pt\;">NAPO Pittsburgh&rsquo\;s Organizing Symposium </span><br />\n<span style="font-size:28.0pt\;">The Art of Letting Go </span><br />\n<span style="font-size:16.0pt\;">Organizing Tips and Tricks from the Pros</span></h1>\n\n<div style="text-align: center\;"><strong>~~~~~~~~~~~~~~~~~~~~~~~~</strong><br />\n&nbsp\;</div>\n\n<div style="text-align: center\;"><span style="font-size:16px\;"><span style="font-family:arial\;"><span style="font-size:18px\;"><u><strong>Program Agenda:</strong></u></span><br />\n<strong>8:00</strong> Registration &amp\; Breakfast<br />\n<strong>9:00</strong> Keynote&ndash\;James Lott Jr aka &ldquo\;The Super Organizer&rdquo\;<br />\n<strong>9:20</strong> Ask the Organizer panel discussions &amp\; Visit with NAPO Business Partners and Professional Organizers<br />\n<strong>12:15 </strong>Closing remarks &amp\; raffle drawings<br />\n<strong>12:30</strong> Adjourn</span></span><br />\n<br />\n<span style="font-size:20px\;"><strong><a href="https://chambermaster.blob.core.windows.net/userfiles/UserFiles/chambers/2803/File/NAPO_SymposiumFlyer-symposiumURL.pdf"><span style="color:#FF0000\;"><span style="font-family:arial\;"><u>Click Here for More Details</u></span></span></a></strong></span></div>\n
LOCATION:Embassy Suites by Hilton Pittsburgh Airport 550 Cherrington Parkway Moon Township\, PA 15108
UID:e.2803.2918
SEQUENCE:3
DTSTAMP:20260422T202416Z
URL:https://www.paacc.com/events/details/the-art-of-letting-go-organizing-tips-and-tricks-from-the-pros-2918
END:VEVENT

END:VCALENDAR
