BEGIN:VCALENDAR
VERSION:2.0
PRODID:-//ChamberMaster//Event Calendar 2.0//EN
METHOD:PUBLISH
X-PUBLISHED-TTL:P3D
REFRESH-INTERVAL:P3D
CALSCALE:GREGORIAN
BEGIN:VEVENT
DTSTART:20230322T233000Z
DTEND:20230323T030000Z
X-MICROSOFT-CDO-ALLDAYEVENT:FALSE
SUMMARY:Tedschi Trucks Band
DESCRIPTION:Tedeschi Trucks Band\, America's premier rock-and-roll big band\, touring in support of I Am The Moon\, an epic four-album project\, will perform live in Moon Township\, PA\, at UPMC Events Center in on March 22\, 2023. The Grammy-winning 12-piece powerhouse holds a well-deserved reputation as one of the best live acts touring today. Led by the husband/wife duo of guitarist Derek Trucks and singer/guitarist Susan Tedeschi\, "two of the best roots rock musicians of their generation" (NPR)\, TTB is known for its world-class musicianship and contemporary blend of a wide range of American musical influences that also define their extensive catalog.
X-ALT-DESC;FMTTYPE=text/html:Tedeschi Trucks Band\, America&rsquo\;s premier rock-and-roll big band\, touring in support of I Am The Moon\, an epic four-album project\, will perform live in Moon Township\, PA\, at UPMC Events Center in on March 22\, 2023. The Grammy-winning 12-piece powerhouse holds a well-deserved reputation as one of the best live acts touring today. Led by the husband/wife duo of guitarist Derek Trucks and singer/guitarist Susan Tedeschi\, &ldquo\;two of the best roots rock musicians of their generation&rdquo\; (NPR)\, TTB is known for its world-class musicianship and contemporary blend of a wide range of American musical influences that also define their extensive catalog.
LOCATION:UPMC Events Center
UID:e.2803.7685
SEQUENCE:3
DTSTAMP:20260422T203423Z
URL:https://www.paacc.com/events/details/tedschi-trucks-band-7685
END:VEVENT

END:VCALENDAR
