BEGIN:VCALENDAR
VERSION:2.0
PRODID:-//ChamberMaster//Event Calendar 2.0//EN
METHOD:PUBLISH
X-PUBLISHED-TTL:P3D
REFRESH-INTERVAL:P3D
CALSCALE:GREGORIAN
BEGIN:VEVENT
DTSTART:20260408T160000Z
DTEND:20260408T173000Z
X-MICROSOFT-CDO-ALLDAYEVENT:FALSE
SUMMARY:"SBDC - Grow Your Business to the Next Level" Workshop
DESCRIPTION:SBDC: "Grow Your To The Next Level" Workshop\n\n \n\nGrow Your Business with Expert Insights\n\n \n\nJoin us for an engaging and practical session with Don Lodge\, Senior Business Consultant at the Duquesne University SBDC\, as he shares proven strategies and growth-focused services available to small businesses throughout our region.\n\nWhether you're launching a new venture or ready to expand\, this event will equip you with tools\, guidance\, and resources that can accelerate your business success.\n\n \n\nTopics Include:\n\n	Essential growth services available through the SBDC\n	Strategic planning for small and growing businesses\n	Marketing\, financial analysis\, and operational improvement\n	How to access free and confidential one on one consulting\n	Training opportunities and programs that support business growth\n\n \n\nWho Should Attend?\n\nSmall business owners\, entrepreneurs\, startups\, and anyone\n\nlooking to strengthen or scale their business.\n\n \n\nWhy Attend?\n\nDiscover no cost\, high impact support programs designed to\n\nhelp your business thrive delivered locally through the Duquesne University\n\nSBDC in collaboration with the Pittsburgh Airport Area Chamber of Commerce.\n\n \n\nCLICK HERE TO REGISTER!\n\n \n\nDate and Location:\n\nApril 8\, 2026\n\n12:00 PM - 1:30 PM\n\nPittsburgh Airport Area Chamber of Commerce\n\n850 Beaver Grade Road\n\nSuite 101\n\nMoon Township\, PA 15108\n\n \n\nFeaturing Don Lodge\, Senior Business Consultant\, Duquesne University Small Business Development Center (SBDC)
X-ALT-DESC;FMTTYPE=text/html:<br />\n<span style="color:#0000CD\;"><span style="font-size:20px\;"><span style="font-family:comic sans ms\;"><strong><u>SBDC: &quot\;Grow Your To The Next Level&quot\; Workshop</u></strong></span></span></span><br />\n&nbsp\;<br />\n<strong>Grow Your Business with Expert Insights</strong><br />\n&nbsp\;<br />\nJoin us for an engaging and practical session with Don Lodge\, Senior Business Consultant at the Duquesne University SBDC\, as he shares proven strategies and growth-focused services available to small businesses throughout our region.<br />\nWhether you&rsquo\;re launching a new venture or ready to expand\, this event will equip you with tools\, guidance\, and resources that can accelerate your business success.<br />\n&nbsp\;<br />\n<strong>Topics Include:</strong>\n<ul>\n	<li>Essential growth services available through the SBDC</li>\n	<li>Strategic planning for small and growing businesses</li>\n	<li>Marketing\, financial analysis\, and operational improvement</li>\n	<li>How to access free and confidential one&#8209\;on&#8209\;one consulting</li>\n	<li>Training opportunities and programs that support business growth</li>\n</ul>\n&nbsp\;<br />\n<strong>Who Should Attend?</strong><br />\nSmall business owners\, entrepreneurs\, startups\, and anyone<br />\nlooking to strengthen or scale their business.<br />\n&nbsp\;<br />\n<strong>Why Attend?</strong><br />\nDiscover no&#8209\;cost\, high&#8209\;impact support programs designed to<br />\nhelp your business thrive&mdash\;delivered locally through the Duquesne University<br />\nSBDC in collaboration with the Pittsburgh Airport Area Chamber of Commerce.<br />\n<span style="color:#FF0000\;">&nbsp\;</span><br />\n<a href="https://www.sbdc.duq.edu/Event-Grow-Your-Business-to-the-Next-level"><span style="color:#FF0000\;"><span style="font-size:18px\;"><span style="font-family:comic sans ms\;"><b><span style="background-color:#FFFF00\;">CLICK HERE TO REGISTER!</span></b></span></span></span></a><br />\n&nbsp\;<br />\n<u><span style="font-family:comic sans ms\;"><span style="font-size:14px\;"><strong>Date and Location:</strong></span></span></u><br />\n<span style="font-size:14px\;"><strong><span style="font-family:comic sans ms\;">April 8\, 2026<br />\n12:00 PM - 1:30 PM</span></strong><br />\nPittsburgh Airport Area Chamber of Commerce<br />\n850 Beaver Grade Road<br />\nSuite 101<br />\nMoon Township\, PA 15108</span><br />\n&nbsp\;<br />\n<strong><em>Featuring Don Lodge\, Senior Business Consultant\, Duquesne University Small Business Development Center (SBDC)</em></strong><br />\n<br />\n<br />\n&nbsp\;<br />\n<br />\n&nbsp\;
LOCATION:PAACC Offices 850 Beaver Grade Road Moon Township\, PA 15108
UID:e.2803.8610
SEQUENCE:3
DTSTAMP:20260425T180541Z
URL:https://www.paacc.com/events/details/sbdc-grow-your-business-to-the-next-level-workshop-8610
END:VEVENT

END:VCALENDAR
