BEGIN:VCALENDAR
VERSION:2.0
PRODID:-//ChamberMaster//Event Calendar 2.0//EN
METHOD:PUBLISH
X-PUBLISHED-TTL:P3D
REFRESH-INTERVAL:P3D
CALSCALE:GREGORIAN
BEGIN:VEVENT
DTSTART:20180606T163000Z
DTEND:20180606T190000Z
X-MICROSOFT-CDO-ALLDAYEVENT:FALSE
SUMMARY:Safe Harbor: Navigating the Rough Waters of Employment Law Presented by Russ Lissuzzo\, Vice President of Legal for Express Employment Professionals
DESCRIPTION:Safe Harbor: Navigating the Rough Waters of Employment Law\n\nPresented by Russ Lissuzzo\, Vice President of Legal for Express Employment Professionals\n\nYou're invited to join Express Employment Professionals for a must-attend complimentary seminar for employers in all industries.\nSeating is limited. Register TODAY! (Lunch provided)\n\nCall: Joani at 412.494.2000\n\nEmail: Joani.McCormack@expresspros.com\n\nClick to register through Eventbrite\n\nWhat You Will Learn:\n\nNavigating your way through the employment process can be a daunting task. And with regulatory issues and legal pitfalls always around the corner\, it can be difficult for companies to recruit\, hire\, and onboard with confidence.\n\nIn this comprehensive session\, Russ Lissuzzo will help take the hassle out of hiring by covering need-to-know topics\, including:\n\n  Pre-Hire Issues (job descriptions\, interviews\, online screening\, etc.)\n\n  Employment Documents (I-9s\, W-4s\, state specific documents\, etc.)\n\n  Discrimination and the Equal Employment Opportunity Commission\n\n  Best Practices for Disciplining/Discharging Employees\n\n\n\n**This event pre-approved for 2 HRCI and 2 SHRM credit hours.**\n\n\n\nAbout the presenter: Russ Lissuzzo\, is the VP of Legal for Express Employment Professionals. Russ's in-depth knowledge of employment law is exceptional. Express is a $3.5 Billion corporation within the employment industry\; therefore\, he is ahead of the curve on all things employment-law related.\n\n\n\nAlso includes a special "Engage to Retain" presentation by Deb Gray\, owner of Express Employment Professionals Pittsburgh West.\n\n \n\n\nHosted by: Express Employment Professionals - Pittsburgh West | 6200 Steubenville Pike\, Suite 201 | Pittsburgh\, PA 15136\n\n\n\nLinks: Express Website | Like Express on Facebook | Follow Express on Twitter
X-ALT-DESC;FMTTYPE=text/html:<h2><span style="color:#0000FF"><strong>Safe Harbor: Navigating the Rough Waters of Employment Law</strong></span></h2>\n\n<h2><span style="color:#0000CD"><em><strong><span style="font-size:14px">Presented by Russ Lissuzzo\, Vice President of Legal for Express Employment Professionals</span></strong></em></span></h2>\n\n<h3><span style="font-size:14px">You&#39\;re invited to join Express Employment Professionals for a must-attend&nbsp\;<strong><span style="color:#0000CD">complimentary</span>&nbsp\;</strong>seminar for employers in all industries.</span></h3>\n<strong>Seating is limited. Register TODAY!&nbsp\;<em>(Lunch provided)</em></strong><br />\n<strong>Call: Joani at 412.494.2000<br />\nEmail:&nbsp\;<a href="mailto:Joani.McCormack@expresspros.com" rel="noopener noreferrer nofollow" style="color:rgb(0\, 127\, 140)\;text-decoration-line:none\;padding-top:0px\;" target="_blank">Joani.McCormack@expresspros.com</a><br />\n<a href="https://www.eventbrite.com/e/safe-harbor-navigating-the-rough-waters-of-employment-law-tickets-46380430115?aff=es2">Click to register through Eventbrite</a></strong>\n\n<hr /><strong>What You Will Learn:</strong><br />\nNavigating your way through the employment process can be a daunting task. And with regulatory issues and legal pitfalls always around the corner\, it can be difficult for companies to recruit\, hire\, and onboard with confidence.<br />\nIn this comprehensive session\, Russ Lissuzzo will help take the hassle out of hiring by covering need-to-know topics\, including:<br />\n<strong>&bull\; Pre-Hire Issues (job descriptions\, interviews\, online screening\, etc.)</strong><br />\n<strong>&bull\; Employment Documents (I-9s\, W-4s\, state specific documents\, etc.)</strong><br />\n<strong>&bull\; Discrimination and the Equal Employment Opportunity Commission</strong><br />\n<strong>&bull\; Best Practices for Disciplining/Discharging Employees</strong><br />\n<br />\n<strong><em>**This event pre-approved for 2 HRCI and 2 SHRM credit hours.**</em></strong><br />\n<br />\n<a href="https://www.expresspros.com/Speakers/RussLissuzzo/">About the presenter: Russ Lissuzzo</a>\, is the VP of Legal for Express Employment Professionals. Russ&#39\;s in-depth knowledge of employment law is exceptional. Express is a $3.5 Billion corporation within the employment industry\; therefore\, he is ahead of the curve on all things employment-law related.<br />\n<br />\nAlso includes a special &ldquo\;Engage to Retain&rdquo\; presentation by Deb Gray\, owner of Express Employment Professionals Pittsburgh West.<br />\n&nbsp\;\n<hr /><br />\n<strong>Hosted by: Express Employment Professionals - Pittsburgh West |&nbsp\;</strong>6200 Steubenville Pike\, Suite 201 | Pittsburgh\, PA 15136<br />\n<br />\n<strong>Links:&nbsp\;</strong><a href="https://www.expresspros.com/wpittsburghpa/" rel="noopener noreferrer nofollow" style="color:rgb(0\, 127\, 140)\;text-decoration-line:none\;" target="_blank">Express Website</a>&nbsp\;|&nbsp\;<a href="https://www.facebook.com/Express-Employment-Professionals-Pittsburgh-West-85842517374/?fref=ts" rel="noopener noreferrer nofollow" style="color:rgb(0\, 127\, 140)\;text-decoration-line:none\;" target="_blank">Like Express on Facebook</a>&nbsp\;|&nbsp\;<a href="https://twitter.com/expresspittw" rel="noopener noreferrer nofollow" style="color:rgb(0\, 127\, 140)\;text-decoration-line:none\;" target="_blank">Follow Express on Twitter</a>
LOCATION:The Children's Home of Pittsburgh (Conference Room) 5324 Penn Avenue Pittsburgh\, PA 15224
UID:e.2803.5180
SEQUENCE:3
DTSTAMP:20260422T205043Z
URL:https://www.paacc.com/events/details/safe-harbor-navigating-the-rough-waters-of-employment-law-presented-by-russ-lissuzzo-vice-president-of-legal-for-express-employment-professionals-5180
END:VEVENT

END:VCALENDAR
