BEGIN:VCALENDAR
VERSION:2.0
PRODID:-//ChamberMaster//Event Calendar 2.0//EN
METHOD:PUBLISH
X-PUBLISHED-TTL:P3D
REFRESH-INTERVAL:P3D
CALSCALE:GREGORIAN
BEGIN:VEVENT
DTSTART:20190928T220000Z
DTEND:20190929T020000Z
X-MICROSOFT-CDO-ALLDAYEVENT:FALSE
SUMMARY:Rosedale Technical College 70th Anniversary Blue Jean Ball
DESCRIPTION:Please join us for our 70th Anniversary Blue Jean Ball on September 28\, 2019\, in celebration of Rosedale Technical College presented by our Partner in Education\, PPG. During the event\, we will unveil our Five Star Focus while honoring our institution's success in graduating students into our region's greatly needed skilled positions and celebrating economic leaders who support the trades. Guests will have the opportunity to sample signature dishes\, enjoy live entertainment\, and have a chance of winning unique travel\, fashion\, sports\, entertainment\, and dining packages during a signature raffle.
X-ALT-DESC;FMTTYPE=text/html:Please join us for our 70th Anniversary Blue Jean Ball on September 28\, 2019\, in celebration of Rosedale Technical College presented by our Partner in Education\, PPG. During the event\, we will unveil our Five Star Focus while honoring our institution&rsquo\;s success in graduating students into our region&rsquo\;s greatly needed skilled positions and celebrating economic leaders who support the trades. Guests will have the opportunity to sample signature dishes\, enjoy live entertainment\, and have a chance of winning unique travel\, fashion\, sports\, entertainment\, and dining packages during a signature raffle.
LOCATION:Energy Innovation Center 1435 Bedford Avenue Pittsburgh\, PA 15219
UID:e.2803.6755
SEQUENCE:3
DTSTAMP:20260420T074852Z
URL:https://www.paacc.com/events/details/rosedale-technical-college-70th-anniversary-blue-jean-ball-6755
END:VEVENT

END:VCALENDAR
