BEGIN:VCALENDAR
VERSION:2.0
PRODID:-//ChamberMaster//Event Calendar 2.0//EN
METHOD:PUBLISH
X-PUBLISHED-TTL:P3D
REFRESH-INTERVAL:P3D
CALSCALE:GREGORIAN
BEGIN:VEVENT
DTSTART:20180928T210000Z
DTEND:20180928T233000Z
X-MICROSOFT-CDO-ALLDAYEVENT:FALSE
SUMMARY:Pittsburgh Oktoberfest Mega Mixer-Melanie Colusci\, Owner of From Start-Up to Success - Keynote Speaker
DESCRIPTION:Melanie Colusci\, owner of From Start-Up to Success is the Keynote Speaker at the Pittsburgh Oktoberfest Business Networking Mega Mixer on Friday\, September 28\, 2018 from 5:00 - 7:30 p.m.\n\n\nMelanie Colusci\, author of "From Start-Up to Success: Navigating the Journey to Becoming (and Staying) a Successful Entrepreneur" will keynote the Pittsburgh Oktoberfest Business Mega Mixer and will share her insights on how planning\, preparation and other strategies can be instrumental to navigating the journey to being and staying successful in life and business. \n\n\n\nEvent tickets available through the Pittsburgh Oktoberfest website.\n\n\n\nEvent Information: Enjoy authentic German music\, dinner and dancing while networking with other business professionals in the Bier Garten.\n\n\n\nTicket ($40) includes dinner\, VIP parking\, networking and live music. (*You must print your ticket and present to parking attendant to gain access to the VIP lot).\n\n\n\nhttps://www.eventbrite.com/e/melanie-colusci-owner-of-from-start-up-to-success-keynote-speaker-at-the-pittsburgh-oktoberfest-tickets-49394025861.\n\n\n\n===================================================\n\nMelanie recently celebrated the one year anniversary of the publish date of her book on August 1st which was the kickoff to her 2018 Book Tour. She is excited to include a stop at the Pittsburgh Oktoberfest Mega Mixer on her book tour!\n\n\n\nHer book is a quick-read guide for entrepreneurs and business owners who are setting up a business or who want to take their business to greater levels - faster! Melanie will share her tips on how to successfully navigate your entrepreneurial journey to achieve success.\n\n\n\n#FSTSBookTour2018\n\n#WomenEntrepreneurs \n\n#Entrepreneurs\n\n\n\nAbout the author:\n\nMelanie Colusci is the founder and president of From Start-up to Success and she also runs a highly successful financial planning firm in Pittsburgh\, PA. The author of From Start-up to Success: Navigating the Journey to Becoming (and Staying) a Successful Entrepreneur\, Melanie has won numerous national and local financial industry awards and has been featured in The Wall Street Journal\, Forbes' Wealth Managers Black Book\, and Pittsburgh Magazine.
X-ALT-DESC;FMTTYPE=text/html:<h2><strong><span style="color:rgb(29\, 33\, 41)\; font-family:helvetica\,arial\,sans-serif\; font-size:14px">Melanie Colusci\, owner of&nbsp\;</span><a href="https://www.facebook.com/melaniecolusciauthor/" style="color: rgb(54\, 88\, 153)\; cursor: pointer\; text-decoration-line: none\; font-family: Helvetica\, Arial\, sans-serif\; font-size: 14px\;" target="_blank">From Start-Up to Success</a><span style="color:rgb(29\, 33\, 41)\; font-family:helvetica\,arial\,sans-serif\; font-size:14px">&nbsp\;is the Keynote Speaker at the Pittsburgh Oktoberfest Business Networking Mega Mixer on Friday\, September 28\, 2018 from 5:00 - 7:30 p.m.</span></strong></h2>\n<br />\n<span style="color:rgb(29\, 33\, 41)\; font-family:helvetica\,arial\,sans-serif\; font-size:14px">Melanie Colusci\, author of &quot\;<em><strong>From Start-Up to Success: Navigating the Journey to Becoming (and Staying) a Successful Entrepreneur</strong></em>&quot\; will keynote the <strong>Pittsburgh Oktoberfest Business Mega Mixer</strong> and will share her insights on how planning\, preparation and other strategies can be instrumental to navigating the journey to being and staying successful in life and business.&nbsp\;</span><br />\n<br />\n<span style="color:rgb(29\, 33\, 41)\; font-family:helvetica\,arial\,sans-serif\; font-size:14px"><strong>Event tickets</strong>&nbsp\;available through the&nbsp\;</span><a href="https://www.facebook.com/oktoberfestpitt/" style="color: rgb(54\, 88\, 153)\; cursor: pointer\; text-decoration-line: none\; font-family: Helvetica\, Arial\, sans-serif\; font-size: 14px\;" target="_blank">Pittsburgh Oktoberfest</a><span style="color:rgb(29\, 33\, 41)\; font-family:helvetica\,arial\,sans-serif\; font-size:14px">&nbsp\;website.</span><br />\n<br />\n<span style="color:rgb(29\, 33\, 41)\; font-family:helvetica\,arial\,sans-serif\; font-size:14px">Event Information: Enjoy authentic German music\, dinner and dancing while networking with other business professionals in the Bier Garten.</span><br />\n<br />\n<span style="color:rgb(29\, 33\, 41)\; font-family:helvetica\,arial\,sans-serif\; font-size:14px">Ticket ($40) includes dinner\, VIP parking\, networking and live music. (*You must print your ticket and present to parking attendant to gain access to the VIP lot).</span><br />\n<br />\n<a href="https://www.eventbrite.com/e/melanie-colusci-owner-of-from-start-up-to-success-keynote-speaker-at-the-pittsburgh-oktoberfest-tickets-49394025861" rel="nofollow noopener" style="color: rgb(54\, 88\, 153)\; cursor: pointer\; text-decoration-line: none\; font-family: Helvetica\, Arial\, sans-serif\; font-size: 14px\;" target="_blank">https://www.eventbrite.com/e/melanie-colusci-owner-of-from-start-up-to-success-keynote-speaker-at-the-pittsburgh-oktoberfest-tickets-49394025861</a><span style="color:rgb(29\, 33\, 41)\; font-family:helvetica\,arial\,sans-serif\; font-size:14px">.</span><br />\n<br />\n<span style="color:rgb(29\, 33\, 41)\; font-family:helvetica\,arial\,sans-serif\; font-size:14px">===================================================</span><br />\n<span style="color:rgb(29\, 33\, 41)\; font-family:helvetica\,arial\,sans-serif\; font-size:14px">Melanie recently celebrated the one year anniversary of the publish date of her book on August 1st which was the kickoff to her 2018 Book Tour. She is excited to include a stop at the Pittsburgh Oktoberfest Mega Mixer on her book tour!</span><br />\n<br />\n<span style="color:rgb(29\, 33\, 41)\; font-family:helvetica\,arial\,sans-serif\; font-size:14px">Her book is a quick-read guide for entrepreneurs and business owners who are setting up a business or who want to take their business to greater levels - faster! Melanie will share her tips on how to successfully navigate your entrepreneurial journey to achieve success.</span><br />\n<br />\n<a href="https://www.facebook.com/hashtag/fstsbooktour2018" style="color: rgb(54\, 88\, 153)\; cursor: pointer\; text-decoration-line: none\; font-family: Helvetica\, Arial\, sans-serif\; font-size: 14px\;" target="_blank">#FSTSBookTour2018</a><br />\n<a href="https://www.facebook.com/hashtag/womenentrepreneurs" style="color: rgb(54\, 88\, 153)\; cursor: pointer\; text-decoration-line: none\; font-family: Helvetica\, Arial\, sans-serif\; font-size: 14px\;" target="_blank">#WomenEntrepreneurs</a><span style="color:rgb(29\, 33\, 41)\; font-family:helvetica\,arial\,sans-serif\; font-size:14px">&nbsp\;</span><br />\n<a href="https://www.facebook.com/hashtag/entrepreneurs" style="color: rgb(54\, 88\, 153)\; cursor: pointer\; text-decoration-line: none\; font-family: Helvetica\, Arial\, sans-serif\; font-size: 14px\;" target="_blank">#Entrepreneurs</a><br />\n<br />\n<span style="color:rgb(29\, 33\, 41)\; font-family:helvetica\,arial\,sans-serif\; font-size:14px">About the author:</span><br />\n<span style="color:rgb(29\, 33\, 41)\; font-family:helvetica\,arial\,sans-serif\; font-size:14px">Melanie Colusci is the founder and president of From Start-up to Success and she also runs a highly successful financial planning firm in Pittsburgh\, PA. The author of From Start-up to Success: Navigating the Journey to Becoming (and Staying) a Successful Entrepreneur\, Melanie has won numerous national and local financial industry awards and has been featured in The Wall Street Journal\, Forbes&rsquo\; Wealth Managers Black Book\, and Pittsburgh Magazine.</span>
LOCATION:Big Butler County Fairgrounds 1127 New Castle Road Prospect\, PA 16052
UID:e.2803.6224
SEQUENCE:3
DTSTAMP:20260422T204945Z
URL:https://www.paacc.com/events/details/pittsburgh-oktoberfest-mega-mixer-melanie-colusci-owner-of-from-start-up-to-success-keynote-speaker-6224
END:VEVENT

END:VCALENDAR
