BEGIN:VCALENDAR
VERSION:2.0
PRODID:-//ChamberMaster//Event Calendar 2.0//EN
METHOD:PUBLISH
X-PUBLISHED-TTL:P3D
REFRESH-INTERVAL:P3D
CALSCALE:GREGORIAN
BEGIN:VEVENT
DTSTART:20180620T220000Z
DTEND:20180620T233000Z
X-MICROSOFT-CDO-ALLDAYEVENT:FALSE
SUMMARY:Ins and Outs of Long Term Care Insurance
DESCRIPTION:Presented by Lifetime Financial Growth\n\nAfter this session you'll:\n\n\n	Understand why someone might want or need life insurance\n	Understand the various kinds of insurance products and how they work\n	Understand how life insurance and long term care insurance coordinates with your investment and retirement planning\n\n\n~~~~~~~~~~~~~~~~~\n\nFor more than 15 years\, Jim McGovern\, CFP\, CHFC\, CeXP\,\n\nhas been educating and working with families in\n\neffective financial decision-making.\n\n\n\nHe has a tremendous passion for helping people make informed decisions so they can meet their objectives in the creation\, maximization\, protection\, and enjoyment of their wealth.
X-ALT-DESC;FMTTYPE=text/html:<p style="text-align: center\;"><u><span style="font-size:20px\;"><span style="font-family:arial\;"><strong><em>Presented by Lifetime Financial Growth</em></strong></span></span></u></p>\n\n<p><span style="font-size:16px\;"><span style="font-family:arial\;">After this session you&rsquo\;ll:</span></span></p>\n\n<ul>\n	<li><span style="font-size:16px\;"><span style="font-family:arial\;">Understand why someone might want or need life insurance</span></span></li>\n	<li><span style="font-size:16px\;"><span style="font-family:arial\;">Understand the various kinds of insurance products and how they work</span></span></li>\n	<li><span style="font-size:16px\;"><span style="font-family:arial\;">Understand how life insurance and long term care insurance coordinates with your investment and retirement planning</span></span></li>\n</ul>\n\n<div style="text-align: center\;"><span style="font-size:16px\;"><span style="font-family:arial\;"><strong>~~~~~~~~~~~~~~~~~</strong></span></span></div>\n\n<p style="text-align: center\;"><span style="font-size:16px\;"><span style="font-family:arial\;"><strong>For more than 15 years\, Jim McGovern\, CFP\, CHFC\, CeXP\,<br />\nhas been educating and working with families in<br />\neffective financial decision-making.<br />\n<br />\nHe has a tremendous passion for helping people make informed decisions so they can meet their objectives in the creation\, maximization\, protection\, and enjoyment of their wealth.</strong></span></span></p>\n
LOCATION:Western Allegheny Community Library 181 Bateman Road Oakdale\, PA 15071
UID:e.2803.5123
SEQUENCE:3
DTSTAMP:20260422T083515Z
URL:https://www.paacc.com/events/details/ins-and-outs-of-long-term-care-insurance-5123
END:VEVENT

END:VCALENDAR
