BEGIN:VCALENDAR
VERSION:2.0
PRODID:-//ChamberMaster//Event Calendar 2.0//EN
METHOD:PUBLISH
X-PUBLISHED-TTL:P3D
REFRESH-INTERVAL:P3D
CALSCALE:GREGORIAN
BEGIN:VEVENT
DTSTART:20180507T150000Z
DTEND:20180507T180000Z
X-MICROSOFT-CDO-ALLDAYEVENT:FALSE
SUMMARY:Grand Reopening of Boston Market in Cranberry PA
DESCRIPTION:Come join our Boston Market team in Cranberry PA for our Grand Reopening/Ribbon Cutting with the Chamber.\n\n\n\nCome try our NEW ROTISSERIE KITCHEN -\n\nFree lunch on me for Chamber Members.\n\n\n\nAsk for Anita Clark or call me 412-738-6925!
X-ALT-DESC;FMTTYPE=text/html:<div style="text-align: center\;">&nbsp\;</div>\n\n<div style="text-align: center\;"><strong><span style="font-size:20px\;"><span style="font-family:arial\;">Come join our Boston Market team in Cranberry PA for our Grand Reopening/Ribbon Cutting with the Chamber.<br />\n<br />\nCome try our NEW ROTISSERIE KITCHEN -<br />\nFree lunch on me for Chamber Members.<br />\n<br />\nAsk for Anita Clark or call me 412-738-6925!</span></span></strong></div>\n
LOCATION:Boston Market #411 20290 Route 19 Cranberry Township\, PA 16066
UID:e.2803.5135
SEQUENCE:3
DTSTAMP:20260422T215912Z
URL:https://www.paacc.com/events/details/grand-reopening-of-boston-market-in-cranberry-pa-5135
END:VEVENT

END:VCALENDAR
