BEGIN:VCALENDAR
VERSION:2.0
PRODID:-//ChamberMaster//Event Calendar 2.0//EN
METHOD:PUBLISH
X-PUBLISHED-TTL:P3D
REFRESH-INTERVAL:P3D
CALSCALE:GREGORIAN
BEGIN:VEVENT
DTSTART:20180110T000000Z
DTEND:20180110T010000Z
X-MICROSOFT-CDO-ALLDAYEVENT:FALSE
SUMMARY:Financial Resolutions Seminar: Resolutions Aren't Just For New Year's Anymore!
DESCRIPTION:Mark Palmer\, CFP(R)\, CRPC(R)\, Financial Advisor with Raymond James Financial Services\, will discuss a dozen great ways to review and revamp your financial affairs\, from revisiting your portfolio's asset allocation to making sure your retirement plan is on track. \n\n\n\nIt promises to be an enlightening hour that can make your whole year.  \n\n\n\nThis session is the first in a series that we will be \n\nhosting throughout the year. \n\n\n\nEach session will focus on a different topic. \n\n\n\nAttend one or attend them all!
X-ALT-DESC;FMTTYPE=text/html:<div style="text-align: center\;"><br />\n<span style="font-size:20px\;"><span style="font-family:arial\;">Mark Palmer\, CFP(R)\, CRPC(R)\, Financial Advisor with Raymond James Financial Services\, will discuss a dozen great ways to review and revamp your financial affairs\, from revisiting your portfolio&#39\;s asset allocation to making sure your retirement plan is on track.&nbsp\;<br />\n<br />\nIt promises to be an enlightening hour that can make your whole year.&nbsp\;&nbsp\;<br />\n<br />\nThis session is the first in a series that&nbsp\;we will be&nbsp\;<br />\nhosting&nbsp\;throughout the year.&nbsp\;<br />\n<br />\nEach session will focus on a different topic.&nbsp\;<br />\n<br />\nAttend one or attend them all!</span></span></div>\n
LOCATION:Western Allegheny Community Library 181 Bateman Road Oakdale\, PA 15071
UID:e.2803.2912
SEQUENCE:3
DTSTAMP:20260422T201439Z
URL:https://www.paacc.com/events/details/financial-resolutions-seminar-resolutions-aren-t-just-for-new-year-s-anymore-2912
END:VEVENT

END:VCALENDAR
