BEGIN:VCALENDAR
VERSION:2.0
PRODID:-//ChamberMaster//Event Calendar 2.0//EN
METHOD:PUBLISH
X-PUBLISHED-TTL:P3D
REFRESH-INTERVAL:P3D
CALSCALE:GREGORIAN
BEGIN:VEVENT
DTSTART:20260530T220000Z
DTEND:20260531T000000Z
X-MICROSOFT-CDO-ALLDAYEVENT:FALSE
SUMMARY:Don Quixote\, presented by West Point Ballet
DESCRIPTION:Step into a ballet that feels more like a celebration than a performance! Don Quixote is bursting with energy\, humor\, and colorful characters that keep audiences smiling from start to finish. With lively music\, playful storytelling\, and show-stopping dancing\, it's the kind of production where even first-time balletgoers will feel right at home. Perfect for families\, this joyful adventure invites you to clap along\, laugh out loud\, and experience a ballet that's anything but traditional.
X-ALT-DESC;FMTTYPE=text/html:Step into a ballet that feels more like a celebration than a performance! Don Quixote is bursting with energy\, humor\, and colorful characters that keep audiences smiling from start to finish. With lively music\, playful storytelling\, and show-stopping dancing\, it&rsquo\;s the kind of production where even first-time balletgoers will feel right at home. Perfect for families\, this joyful adventure invites you to clap along\, laugh out loud\, and experience a ballet that&rsquo\;s anything but traditional.
LOCATION:Moon Area High School 8353 University Blvd Coraopolis\, PA 15108
UID:e.2803.8905
SEQUENCE:3
DTSTAMP:20260423T185958Z
URL:https://www.paacc.com/events/details/don-quixote-presented-by-west-point-ballet-8905
END:VEVENT

END:VCALENDAR
