BEGIN:VCALENDAR
VERSION:2.0
PRODID:-//ChamberMaster//Event Calendar 2.0//EN
METHOD:PUBLISH
X-PUBLISHED-TTL:P3D
REFRESH-INTERVAL:P3D
CALSCALE:GREGORIAN
BEGIN:VEVENT
DTSTART:20190227T233000Z
DTEND:20190228T013000Z
X-MICROSOFT-CDO-ALLDAYEVENT:FALSE
SUMMARY:"Cottage After Hours": A Ladies Nite Out at Consignment Cottage
DESCRIPTION:Cottage After Hours Presents:\n\n"Go from Surviving to Thriving:  How to Achieve Your Best Health\n\nand Weight in 2019!"\n\nWednesday\, February 27\, 2019 \n\n6:30 - 8:30 p.m.\n\nGUEST SPEAKER: Maria Allhouse\n\nA certified lifestyle weight management coach\, fitness trainer and nutritionist will share her personal journey of losing 120 lbs! \n\nMaria's unique behavioral techniques help her clients become strong\, healthy and confident.  www.mariaallshouse.com | www.facebook.com/allshousems \n\n\n\nJoin us monthly for "CottageAfter Hours" at Consignment Cottage!\n\nEnjoy discounted shopping for better label resale fashions\, networking and refreshments followed by a short presentation by a local guest speaker! \n\nThese fun and informative Ladies Nite Out events are free\, but please bring a canned good/non-perishable donation for the West Hills Food Pantry.\n\n\n\nRegistration limited to 25!\n\nPlease call at 412.262.0833 to reserve your spot!
X-ALT-DESC;FMTTYPE=text/html:<div style="text-align: center\;"><br />\n&nbsp\;</div>\n\n<h1 style="font-weight: normal\; line-height: 1.2\; color: rgb(51\, 51\, 51)\; text-align: center\;" text-align:="" trebuchet=""><span style="font-size:20px\;"><span style="font-family: arial\;"><em><u><strong>Cottage After Hours Presents:</strong></u></em></span></span></h1>\n\n<p font-size:="" style="color: rgb(51\, 51\, 51)\; text-align: center\;" text-align:="" trebuchet=""><span style="font-size: 14px\;"><span style="font-family: arial\;"><strong style="font-family: arial\, helvetica\, sans-serif\, serif\, emojifont\;"><span style="color: rgb(0\, 128\, 128)\;">&quot\;Go from Surviving to Thriving:&nbsp\; How to Achieve Your Best Health<br />\nand Weight in 2019!&quot\;</span></strong><br />\n<span style="color: rgb(0\, 128\, 128)\;"><strong>Wednesday\, February&nbsp\;27\, 2019&nbsp\;<br />\n6:30 - 8:30 p.m.</strong></span></span></span></p>\n\n<div font-size:="" style="color: rgb(51\, 51\, 51)\; text-align: center\;" text-align:="" trebuchet=""><span style="font-family: arial\;"><span style="font-size: 14px\;"><span style="font-size: 12px\;"><span style="font-size:16px\;"><em><strong><u>GUEST SPEAKER: Maria Allhouse</u></strong></em></span><br />\nA certified lifestyle weight management coach\, fitness trainer and nutritionist will share her personal journey of losing 120 lbs!&nbsp\;<br />\nMaria&#39\;s unique behavioral techniques help her clients become strong\,&nbsp\;</span></span><span style="font-size: 14px\;"><span style="font-size: 12px\;">healthy and confident.</span></span><span style="color: rgb(80\, 0\, 80)\;">&nbsp\;&nbsp\;<span style="font-size:12px\;"><a href="http://mail.snapretail.com/wf/click?upn=KgqpuwK15gBiDU4-2FJru6lBoW6wOFVXulkUZyLMqxirg-3D_hfIqhjxrH5PXl2rHT1sLDYBqkg6mJ-2B3VkpPaA3497-2FuaCCKCiYyIfqqsp-2F0L-2Fj6cug05Az6Ud72NbybRVloO5VTkpgakOa6XNaynRVGW2BV1-2FpAb1TWX9kZCbvvZ1lWTkwSkw8DLQnkv5-2BezVqaC6kTJ6OUtHa0FLDaX93-2Bc2do5LenQcHmrbcMU4xC1FzTH1YBdbafwWzacJF6P0IJHMeY0kysUn1KOBaPnUtLSUONW6fwHXeu-2Bh5FGIdN07XeJiOEPOS1DZ2k3UlbpFl88FYti7-2FtszPAq5GEPk7CB1Eb1flaHtxxJSicQ6eGXwWOSYaub7IzlZwGgrEr2seKtbQ-3D-3D" id="LPNoLP" rel="noopener noreferrer" style="color: rgb(17\, 85\, 204)\;" target="_blank">www.mariaallshouse.com</a>&nbsp\;|&nbsp\;</span></span><span style="font-size:12px\;"><a href="http://mail.snapretail.com/wf/click?upn=KgqpuwK15gBiDU4-2FJru6lNTnIj7gsZSKNstB1rp6n9E-3D_hfIqhjxrH5PXl2rHT1sLDYBqkg6mJ-2B3VkpPaA3497-2FuaCCKCiYyIfqqsp-2F0L-2Fj6cug05Az6Ud72NbybRVloO5VTkpgakOa6XNaynRVGW2BV1-2FpAb1TWX9kZCbvvZ1lWTkwSkw8DLQnkv5-2BezVqaC6kTJ6OUtHa0FLDaX93-2Bc2do5LenQcHmrbcMU4xC1FzTHNRGv1tLnRqkAyQg3tw-2F1KJqvqc6zKjgEWZm0LXkzOaZ7EAYHyRME0Xfl0SLw-2BVP4-2B2VpvjFul4dyIZOMueJ0el2ETSsKHJE-2BpRP24B9iz9x3v8hQypGZprty6QTTNEjAq03-2F-2FxIJN7tm0-2BYOFYDeGw-3D-3D" id="LPNoLP" rel="noopener noreferrer" style="color: rgb(17\, 85\, 204)\; font-family: arial\, sans-serif\, serif\, emojifont\;" target="_blank">www.facebook.com/allshousems</a>&nbsp\;</span><br />\n<br />\n<span style="font-size: 16px\;"><u><em><strong>Join us monthly for &quot\;CottageAfter Hours&quot\; at Consignment Cottage!</strong></em></u></span><br />\n<span style="font-size: 14px\;">Enjoy discounted shopping for better label resale fashions\, networking and refreshments followed by a short presentation by a local guest speaker!&nbsp\;<br />\nThese fun and informative Ladies Nite Out events are free\, but please bring a canned good/non-perishable donation for the West Hills Food Pantry.<br />\n<br />\n<strong>Registration limited to 25!<br />\nPlease call at 412.262.0833&nbsp\;to reserve your spot!</strong></span></span></div>\n
LOCATION:Consignment Cottage 234 Moon Clinton Road Moon Township\, PA 15108
UID:e.2803.6373
SEQUENCE:3
DTSTAMP:20260422T215622Z
URL:https://www.paacc.com/events/details/cottage-after-hours-a-ladies-nite-out-at-consignment-cottage-6373
END:VEVENT

END:VCALENDAR
