BEGIN:VCALENDAR
VERSION:2.0
PRODID:-//ChamberMaster//Event Calendar 2.0//EN
METHOD:PUBLISH
X-PUBLISHED-TTL:P3D
REFRESH-INTERVAL:P3D
CALSCALE:GREGORIAN
BEGIN:VEVENT
DTSTART:20240811T160000Z
DTEND:20240811T210000Z
X-MICROSOFT-CDO-ALLDAYEVENT:FALSE
SUMMARY:Carnegie Library of Pittsburgh’s Summer Reading Extravaganza
DESCRIPTION:Soak in the final days of summer with Carnegie Library of Pittsburgh's (CLP) Summer Reading Extravaganza on August 11!\n\n\n\nIn celebration of this year's Summer Reading Program\, READ-A-PALOOZA BOOK BOWL\, CLP is hosting their annual Extravaganza  a day of free family-fun activities including music\, crafts\, games\, storytelling\, food trucks and more!   \n\n\n\nPlus\, Summer Reading participants will hear how each team performed against the competition and see if readers beat last year's record-setting number of books logged. Readers can participate in Summer Reading until August 11.\n\n\n\nTo learn more and register for Summer Reading\, visit a CLP location or carnegielibrary.org/summer-reading. Extravaganza is open to all and is not only limited to Summer Reading participants.
X-ALT-DESC;FMTTYPE=text/html:Soak in the final days of summer with Carnegie Library of Pittsburgh&rsquo\;s (CLP) Summer Reading Extravaganza on August 11!<br />\n<br />\nIn celebration of this year&rsquo\;s Summer Reading Program\, READ-A-PALOOZA BOOK BOWL\, CLP is hosting their annual Extravaganza&mdash\; a day of free family-fun activities including music\, crafts\, games\, storytelling\, food trucks and more!&nbsp\; &nbsp\;<br />\n<br />\nPlus\, Summer Reading participants will hear how each team performed against the competition and see if readers beat last year&rsquo\;s record-setting number of books logged. Readers can participate in Summer Reading until August 11.<br />\n<br />\nTo learn more and register for Summer Reading\, visit a CLP location or carnegielibrary.org/summer-reading. Extravaganza is open to all and is not only limited to Summer Reading participants.
LOCATION:CLP Main (Oakland) 4400 Forbes Ave Pittsburgh\, PA 15213
UID:e.2803.8169
SEQUENCE:3
DTSTAMP:20260421T074401Z
URL:https://www.paacc.com/events/details/carnegie-library-of-pittsburgh-s-summer-reading-extravaganza-8169
END:VEVENT

END:VCALENDAR
