BEGIN:VCALENDAR
VERSION:2.0
PRODID:-//ChamberMaster//Event Calendar 2.0//EN
METHOD:PUBLISH
X-PUBLISHED-TTL:P3D
REFRESH-INTERVAL:P3D
CALSCALE:GREGORIAN
BEGIN:VEVENT
DTSTART:20210921T220000Z
DTEND:20210921T230000Z
X-MICROSOFT-CDO-ALLDAYEVENT:FALSE
SUMMARY:"Canadian Rockies & Glacier National Park" - June 28 - July 4\, 2022
DESCRIPTION:Visit the breathtaking...\n\n"Canadian Rockies & Glacier National Park"\n\nGet ready for an adventure that brings together the beautiful expanse of the prairies\, the soaring majesty of the Canadian Rockies and the brilliance of Montana's "Glacier National Park." Highlights include: Calgary\, Head-Smashed-In Buffalo Jump\, Waterton Lakes National Park\, Glacier National Park\, Going-to-the-Sun Road\, Banff\, Athabasca Glacier\, Lake Louise.\n\n\n\nJune 28 - July 4\, 2022\n\n~~~~~~~~~~\n\nJoin us for an\n\n"INFORMATIONAL MEETING" \n\nTues.\, Sept. 21st\, 6:00 p.m. - 7:00 p.m.\n\n\n\nMeeting will take place at the Chamber offices:\n\n850 Beaver Grade Road\, Moon Township\, PA  15108\n\n\n\nTo receive an "Official Tour Brochure\,"\n\ncontact Michelle Kreutzer\, Executive Director\,\n\nat mkreutzer@paacc.com or 412-203-0257.
X-ALT-DESC;FMTTYPE=text/html:<div style="text-align: center\;"><br />\n<span style="color: rgb(51\, 51\, 51)\; font-size: 13px\; text-align: center\; background-color: rgb(255\, 255\, 255)\; font-family: arial\;"><span style="font-size: 24px\;"><strong>Visit the breathtaking...<br />\n<span style="font-size: 48px\;"><span style="font-family: &quot\;comic sans ms&quot\;\;"><span style="color: rgb(128\, 0\, 128)\;"><span comic="" sans="">&quot\;Canadian Rockies &amp\; Glacier National Park&quot\;</span></span></span></span></strong></span></span></div>\n\n<div style="text-align: center\;"><span style="font-size: 14px\;"><i>Get ready for an adventure that brings together the beautiful expanse of the prairies\, the soaring majesty of the Canadian Rockies and the brilliance of Montana&#39\;s &quot\;Glacier National Park.&quot\; Highlights include: Calgary\, Head-Smashed-In Buffalo Jump\, Waterton Lakes National Park\, Glacier National Park\, Going-to-the-Sun Road\, Banff\, Athabasca Glacier\, Lake Louise.</i></span></div>\n\n<div style="text-align: center\;"><br style="color: rgb(51\, 51\, 51)\; font-family: sans-serif\, Arial\, Verdana\, &quot\;Trebuchet MS&quot\;\; font-size: 13px\; text-align: center\; background-color: rgb(255\, 255\, 255)\;" />\n<span style="color: rgb(51\, 51\, 51)\; font-size: 13px\; text-align: center\; background-color: rgb(255\, 255\, 255)\; font-family: arial\;"><span style="font-size: 24px\;"><strong><span style="font-size: 36px\;"><span style="font-family: &quot\;comic sans ms&quot\;\;"><span style="color: rgb(128\, 0\, 128)\;"><span comic="" sans="">June 28 - July 4\, 2022</span></span></span></span><br />\n~~~~~~~~~~</strong></span></span><br background-color:="" font-size:="" style="color: rgb(51\, 51\, 51)\; font-family: sans-serif\, Arial\, Verdana\, &quot\;Trebuchet MS&quot\;\; font-size: 13px\; text-align: center\; background-color: rgb(255\, 255\, 255)\;" text-align:="" trebuchet="" />\n<span style="color: rgb(51\, 51\, 51)\; font-family: sans-serif\, Arial\, Verdana\, &quot\;Trebuchet MS&quot\;\; text-align: center\; background-color: rgb(255\, 255\, 255)\; font-size: 20px\;"><span background-color:="" font-size:="" text-align:="" trebuchet=""><span style="font-family: tahoma\;"><strong>Join us for an<br />\n<span style="font-family: &quot\;comic sans ms&quot\;\;"><span style="font-size: 22px\;"><span style="color: rgb(0\, 0\, 205)\;"><span comic="" sans="">&quot\;INFORMATIONAL MEETING&quot\;&nbsp\;</span></span></span></span><br />\nTues.\, Sept. 21st\, 6:00 p.m. - 7:00 p.m.</strong></span></span></span><br style="color: rgb(51\, 51\, 51)\; font-family: sans-serif\, Arial\, Verdana\, &quot\;Trebuchet MS&quot\;\; font-size: 13px\; text-align: center\; background-color: rgb(255\, 255\, 255)\;" />\n<br style="color: rgb(51\, 51\, 51)\; font-family: sans-serif\, Arial\, Verdana\, &quot\;Trebuchet MS&quot\;\; font-size: 13px\; text-align: center\; background-color: rgb(255\, 255\, 255)\;" />\n<span style="color: rgb(51\, 51\, 51)\; font-family: sans-serif\, Arial\, Verdana\, &quot\;Trebuchet MS&quot\;\; text-align: center\; background-color: rgb(255\, 255\, 255)\; font-size: 14px\;"><strong><u>Meeting will take place at the Chamber offices:</u></strong><br />\n850 Beaver Grade Road\, Moon Township\, PA&nbsp\; 15108</span><br />\n<br background-color:="" font-size:="" style="color: rgb(51\, 51\, 51)\; font-family: sans-serif\, Arial\, Verdana\, &quot\;Trebuchet MS&quot\;\; font-size: 13px\; text-align: center\; background-color: rgb(255\, 255\, 255)\;" text-align:="" trebuchet="" />\n<span style="color: rgb(51\, 51\, 51)\; font-family: sans-serif\, Arial\, Verdana\, &quot\;Trebuchet MS&quot\;\; text-align: center\; background-color: rgb(255\, 255\, 255)\; font-size: 18px\;"><span background-color:="" font-size:="" text-align:="" trebuchet="">To receive an&nbsp\;<span style="font-family: &quot\;comic sans ms&quot\;\;"><em><strong><span style="color: rgb(128\, 0\, 128)\;">&quot\;Official Tour Brochure\,</span>&quot\;</strong></em></span><br />\ncontact Michelle Kreutzer\, Executive Director\,<br />\nat mkreutzer@paacc.com or 412-203-0257.</span></span></div>\n
LOCATION:PAACC Offices 850 Beaver Grade Road Moon Township\, PA 15108
UID:e.2803.7442
SEQUENCE:3
DTSTAMP:20260422T204533Z
URL:https://www.paacc.com/events/details/canadian-rockies-glacier-national-park-june-28-july-4-2022-7442
END:VEVENT

END:VCALENDAR
