BEGIN:VCALENDAR
VERSION:2.0
PRODID:-//ChamberMaster//Event Calendar 2.0//EN
METHOD:PUBLISH
X-PUBLISHED-TTL:P3D
REFRESH-INTERVAL:P3D
CALSCALE:GREGORIAN
BEGIN:VEVENT
DTSTART:20180206T233000Z
DTEND:20180207T003000Z
X-MICROSOFT-CDO-ALLDAYEVENT:FALSE
SUMMARY:Business and Brownies - Choosing a Business Entity: What to Consider When Starting A Business
DESCRIPTION:Are you thinking of starting your own business?\n\n\n\nThis seminar will provide an overview on the various legal entities - Sole Proprietor\, Partnership\, Limited Liability Company\, and Corporation. \n\n\n\nYou will learn the pros and cons to these types\, with a focus on how to form each one\, the risks associated with it\, and an overview of the tax issues. \n\n\n\nPresented by Tracy Zihmer\, Esq. \n\n\n\nTreats will be provided.
X-ALT-DESC;FMTTYPE=text/html:<div style="text-align: center\;"><br />\n<span style="font-size:20px\;"><span style="font-family:arial\;">Are you thinking of starting your own business?<br />\n<br />\nThis seminar will provide an overview on the various legal entities - Sole Proprietor\, Partnership\, Limited Liability Company\, and Corporation.&nbsp\;<br />\n<br />\nYou will learn the pros and cons to these types\, with a focus on how to form each one\, the risks associated with it\, and an overview of the tax issues.&nbsp\;<br />\n<br />\nPresented by Tracy Zihmer\, Esq.&nbsp\;<br />\n<br />\nTreats will be provided.&nbsp\;</span></span></div>\n
LOCATION:Western Allegheny Community Library 181 Bateman Road Oakdale\, PA 15071
UID:e.2803.2914
SEQUENCE:3
DTSTAMP:20260422T214909Z
URL:https://www.paacc.com/events/details/business-and-brownies-choosing-a-business-entity-what-to-consider-when-starting-a-business-2914
END:VEVENT

END:VCALENDAR
