BEGIN:VCALENDAR
VERSION:2.0
PRODID:-//ChamberMaster//Event Calendar 2.0//EN
METHOD:PUBLISH
X-PUBLISHED-TTL:P3D
REFRESH-INTERVAL:P3D
CALSCALE:GREGORIAN
BEGIN:VEVENT
DTSTART:20260514T113000Z
DTEND:20260514T133000Z
X-MICROSOFT-CDO-ALLDAYEVENT:FALSE
SUMMARY:"Breakfast Briefing: What to Expect at PIT This Summer"
DESCRIPTION:PAACC Breakfast Briefing Series\n\n\n\nThurs.\, May 14\, 2026\n\n7:30 a.m. - 9:30 a.m.\n\n\n\n"Know Before You Go:\n\nWhat to Expect at PIT This Summer"\n\n\n\nGet the latest insights on the aviation and travel industry\, including what to expect from the airlines serving PIT\, and how new parking products\, concessions\, and partnerships will enhance your summer travel experience.\n\n\n\nSPEAKER\n\nBryan Dietz\n\nSVP of Air Service & Commercial Development\n\nAllegheny County Airport Authority
X-ALT-DESC;FMTTYPE=text/html:<div style="text-align: center\;"><br />\n<span style="font-family: tahoma\; color: rgb(0\, 100\, 0)\;"><span style="font-family:comic sans ms\;"><span style="font-size:28px\;"><strong>PAACC Breakfast Briefing Series</strong></span></span></span><br />\n<br />\n<span style="font-size:22px\;"><span style="font-family:comic sans ms\;"><strong background-color:="" comic="" font-size:="" sans="" style="color: rgb(51\, 51\, 51)\; font-family: " text-align:="">Thurs.\, May 14\, 2026<br />\n7:30 a.m. - 9:30 a.m.</strong></span></span><br />\n<br />\n<span style="font-size:26px\;"><span style="font-size:28px\;"><span style="color:#000080\;"><strong><span style="font-family:comic sans ms\;">&quot\;Know Before You Go:<br />\nWhat to Expect at PIT This Summer&quot\;</span></strong></span></span></span><br />\n<br />\n<span style="font-size:20px\;"><em><span style="font-family:arial\,sans-serif\;">Get the latest insights on the aviation and travel industry\, including what to expect from the airlines serving PIT\, and how new parking products\, concessions\, and partnerships will enhance your summer travel experience.</span></em></span><br />\n<br />\n<span style="font-family:tahoma\;"><span style="font-size:22px\;"><span style="font-family:comic sans ms\;"><strong><u>SPEAKER</u><br />\n<span style="font-size:26px\;"><span style="color:#000080\;">Bryan Dietz</span></span><br />\nSVP of Air Service &amp\; Commercial Development<br />\nAllegheny County Airport Authority</strong></span></span></span><br />\n<br />\n&nbsp\;</div>\n
LOCATION:Pittsburgh Airport Marriott 777 Aten Road Coraopolis\, PA 15108
UID:e.2803.8901
SEQUENCE:3
DTSTAMP:20260421T073315Z
URL:https://www.paacc.com/events/details/breakfast-briefing-what-to-expect-at-pit-this-summer-05-14-2026-8901
END:VEVENT

END:VCALENDAR
