BEGIN:VCALENDAR
VERSION:2.0
PRODID:-//ChamberMaster//Event Calendar 2.0//EN
METHOD:PUBLISH
X-PUBLISHED-TTL:P3D
REFRESH-INTERVAL:P3D
CALSCALE:GREGORIAN
BEGIN:VEVENT
DTSTART:20230331T113000Z
DTEND:20230331T133000Z
X-MICROSOFT-CDO-ALLDAYEVENT:FALSE
SUMMARY:"Breakfast Briefing: "Transforming the Passenger Journey at PIT"
DESCRIPTION:* ON-LINE Registration is CLOSED *\n\n* Please call the office at 412-264-6270 to register *\n\n\n\n"PAACC Breakfast Briefing Series"\n\nJoin us for a\n\n"Terminal Modernization Program"\n\n(TMP) Update \n\nFri.\, Mar. 31st \n\n\n\n"Transforming the Passenger Journey at Pittsburgh International Airport"\n\n\n\nThe Terminal Modernization Program will transform the passenger journey from curb to gate and back\, with unique design features that evoke the natural and manmade beauty of the Pittsburgh region. Learn how travelers will move through the new terminal\, get the latest updates on construction progress\, and hear how you can support this industry-leading project.\n\n \n\n- Speaker -\n\n\n\nPerfecto Solis\n\nProgram Director\n\n"Terminal Modernization Program (TMP) - Pittsburgh International Airport"
X-ALT-DESC;FMTTYPE=text/html:<div style="text-align: center\;"><span style="color:#FF0000\;"><strong><span style="font-size:16px\;">* ON-LINE Registration is CLOSED *<br />\n* Please call the office at 412-264-6270 to register *</span></strong></span><br />\n<br />\n<span style="font-family: tahoma\; color: rgb(0\, 100\, 0)\;"><span style="font-family:comic sans ms\;"><span style="font-size:28px\;"><strong>&quot\;PAACC Breakfast Briefing Series&quot\;</strong></span></span></span><br />\n<span style="font-family:tahoma\;"><span style="font-size:22px\;"><span style="font-family:comic sans ms\;"><strong>Join us for a<br />\n&quot\;Terminal Modernization Program&quot\;<br />\n(TMP) Update&nbsp\;<br />\nFri.\, Mar. 31st&nbsp\;<br />\n<br />\n<span style="font-size:26px\;"><span style="color:#0000CD\;">&quot\;Transforming the Passenger Journey at Pittsburgh International Airport&quot\;</span></span></strong></span></span></span></div>\n\n<div><br />\nThe <strong>Terminal Modernization Program</strong> will transform the passenger journey from curb to gate and back\, with unique design features that evoke the natural and manmade beauty of the Pittsburgh region. Learn how travelers will move through the new terminal\, get the latest updates on construction progress\, and hear how you can support this industry-leading project.<br />\n&nbsp\;</div>\n\n<div style="text-align: center\;"><span style="font-family:tahoma\;"><span style="font-size:18px\;"><em>- Speaker -</em></span></span><br />\n<br />\n<span style="font-family:comic sans ms\;"><span style="font-size: 24px\; color: rgb(0\, 0\, 205)\;"><span style="font-size:28px\;"><strong>Perfecto Solis</strong></span></span></span><br />\n<span style="font-family:comic sans ms\;"><span style="font-size:20px\;"><i>Program Director</i></span><br />\n<strong style="font-size: 24px\;">&quot\;Terminal Modernization Program (TMP) - Pittsburgh International Airport&quot\;</strong></span></div>\n<br />\n<br />\n&nbsp\;
LOCATION:Pittsburgh Airport Marriott 777 Aten Road Coraopolis\, PA 15108
UID:e.2803.7710
SEQUENCE:3
DTSTAMP:20260424T093701Z
URL:https://www.paacc.com/events/details/breakfast-briefing-transforming-the-passenger-journey-at-pit-7710
END:VEVENT

END:VCALENDAR
