BEGIN:VCALENDAR
VERSION:2.0
PRODID:-//ChamberMaster//Event Calendar 2.0//EN
METHOD:PUBLISH
X-PUBLISHED-TTL:P3D
REFRESH-INTERVAL:P3D
CALSCALE:GREGORIAN
BEGIN:VEVENT
DTSTART;VALUE=DATE:20180604
DTEND;VALUE=DATE:20180701
TRANSP:TRANSPARENT
X-MICROSOFT-CDO-ALLDAYEVENT:TRUE
SUMMARY:Boston Market Catering - NATIONAL ROTISSERIE CHICKEN Day / Week / Celebration
DESCRIPTION:Boston Market Catering - We have a National Day - NATIONAL ROTISSERIE CHICKEN DAY JUNE 2ND.\n\nJoin us this week and month while we celebrate our NATIONAL ROTISSERIE CHICKEN Day!\n\n\n\nGet $20 off with any $150 order promo code GRAD2018 (expires 6/30)\n\n\n\nPick up or delivery!\n\n\n\nGive us a call 866-977-9090 or Visit us online today  www.bostonmarket.com or give me a call at 412-738-6925
X-ALT-DESC;FMTTYPE=text/html:<h1 style="text-align: center\;"><br />\n<span style="font-size:26px"><span style="font-family:comic sans ms">Boston Market Catering - We have a National Day - NATIONAL ROTISSERIE CHICKEN DAY JUNE 2ND.</span></span></h1>\n\n<div style="text-align: center\;"><span style="font-family:comic sans ms"><span style="font-size:12.0pt">Join us this week and month while we celebrate our NATIONAL ROTISSERIE CHICKEN Day!<br />\n<br />\n<span style="color:black">Get $20 off with any $150 order promo code GRAD2018 (expires 6/30)<br />\n<br />\nPick up or delivery!<br />\n<br />\nGive us a call 866-977-9090 or </span></span></span><a href="https://urldefense.proofpoint.com/v2/url?u=http-3A__cp.mcafee.com_d_k-2DKr3xAp6hASyMUyVtBMQsECXCQrCzBUsPuVEVvdETd7bMVCWb8USzsQsL6zCVEVvphdETd7bMVZ4sMqejuSfS9k54aQDOVIxmA-2DndWUwNW8V-5FHYOUMDt5DHTbFIT7sUqejhOepjoVqWdAklkkmul3PWApmU6CQjr9KVKVI04gHitoaX4HY-2DnOSP-2DcE4jqQjd3zhOyUxGa23NR6Wr3EuvawafSxcz6HqTbCQrFCzCX9Ic2Vs5zihEwvLsQg2224FOH3jPh02-5Fcr52xEw2RpgDgQg1miIF-2Dwq89OlYSMqejswH4lgck&amp\;d=DwMFAw&amp\;c=jGoOXpIWTyQOZ-M_i6L0Tw&amp\;r=MPEexnQNCEfUsQsi0lsB2A&amp\;m=4aYIMtsFPFDcTF7H9DU7oDyg76Bgg8OXMf7qvFMfFkQ&amp\;s=kp_9-lnswJlomkigKTFXEceHHeUady12JLeBwrzqxrs&amp\;e="><span style="font-family:vijaya\,sans-serif"><span style="font-size:18.0pt">Visit us online today&nbsp\; www.bostonmarket.com or give me a call at 412-738-6925</span></span></a></div>\n
LOCATION:All Boston Market Locations and All catering with Boston Market
UID:e.2803.5153
SEQUENCE:3
DTSTAMP:20260422T215024Z
URL:https://www.paacc.com/events/details/boston-market-catering-national-rotisserie-chicken-day-week-celebration-5153
END:VEVENT

END:VCALENDAR
