BEGIN:VCALENDAR
VERSION:2.0
PRODID:-//ChamberMaster//Event Calendar 2.0//EN
METHOD:PUBLISH
X-PUBLISHED-TTL:P3D
REFRESH-INTERVAL:P3D
CALSCALE:GREGORIAN
BEGIN:VEVENT
DTSTART:20260416T153000Z
DTEND:20260416T173000Z
X-MICROSOFT-CDO-ALLDAYEVENT:FALSE
SUMMARY:"BizBlast @ Noon" - Hilton Garden Inn Pittsburgh Area Beaver Valley
DESCRIPTION:On-line Registration for this Event has CLOSED!\n\nCall the office at 412-264-6270 to Register!\n\n\n\nLooking for a way to get more leads in less time? \n\n\n\nThen\, this "NETWORKING" lunch is for you!\n\n\n\nJoin us on Thurs.\, Apr. 16th for\n\n"BizBlast @ Noon"\n\nand bring plenty of business cards!\n\nRegistration and networking begin at 11:30 a.m. \n\nTO REGISTER\, CLICK ON THE REGISTER NOW! BUTTON\n\nOR CALL 412.264.6270\n\n********************\n\n\n\nHOST SITE SPONSOR:\n\n\n\n"Hilton Garden Inn Pittsburgh\n\nArea Beaver Valley"\n\n\n\nHilton Garden Inn Pittsburgh Area/Beaver Valley offers modern guestrooms\, versatile meeting space\, and welcoming service ideal for business and leisure travelers. Conveniently located near major corporations\, shopping\, and the airport\, the hotel features on site dining\, a fitness center\, and flexible amenities that ensure comfort\, productivity\, and a seamless stay experience.
X-ALT-DESC;FMTTYPE=text/html:<p font-size:="" style="color: rgb(51\, 51\, 51)\; text-align: center\;" text-align:="" trebuchet=""><span style="font-size:18px\;"><span style="color:#FF0000\;"><strong><span style="font-family:comic sans ms\;">On-line Registration for this Event has CLOSED!<br />\nCall the office at 412-264-6270 to Register!</span></strong></span></span><br />\n<br />\n<span style="font-size: 16px\;"><span style="font-family: arial\;"><span style="color: rgb(0\, 51\, 51)\;">Looking for a way to get more leads in less time?&nbsp\;<br />\n<br />\nThen\, this </span><span style="color:#006400\;"><span style="font-size:18px\;"><span style="font-family:comic sans ms\;"><strong>&quot\;NETWORKING&quot\;</strong></span></span> </span><span style="color: rgb(0\, 51\, 51)\;">lunch is for you!</span></span></span><br />\n<br />\n<span style="font-size: 16px\;"><span style="font-family: arial\;"><span style="color: rgb(0\, 51\, 51)\;">Join us on <span style="font-family:comic sans ms\;"><strong>Thurs.\, Apr. 16th&nbsp\;</strong></span>for</span><br />\n<span style="font-size:36px\;"><span style="color:#0000CD\;"><span style="font-family:comic sans ms\;"><strong>&quot\;BizBlast @ Noon&quot\;</strong></span></span></span><br />\n<span style="color: rgb(0\, 51\, 51)\;">and bring plenty of business cards!</span></span></span></p>\n\n<p font-size:="" style="color: rgb(51\, 51\, 51)\; text-align: center\;" text-align:="" trebuchet=""><span style="font-size: 16px\;"><span style="font-family: arial\;"><span style="color: rgb(0\, 51\, 51)\;">Registration and networking begin at 11:30 a.m.</span><strong>&nbsp\;</strong></span></span></p>\n\n<p font-size:="" style="color: rgb(51\, 51\, 51)\; text-align: center\;" text-align:="" trebuchet=""><span style="font-size: 16px\;"><span style="font-family: arial\;"><strong>TO REGISTER\,&nbsp\;CLICK ON THE&nbsp\;<span style="color: rgb(0\, 153\, 0)\;">REGISTER NOW!</span>&nbsp\;BUTTON<br />\nOR&nbsp\;</strong><span trebuchet=""><strong>CALL&nbsp\;412.264.6270</strong></span></span></span></p>\n\n<p font-size:="" style="color: rgb(51\, 51\, 51)\; text-align: center\;" text-align:="" trebuchet=""><span style="font-size: 18px\;"><span style="color: rgb(0\, 0\, 102)\;"><strong>********************</strong></span></span><br />\n<br />\n<span style="font-size:22px\;"><u><strong>HOST SITE SPONSOR:</strong></u></span><br />\n<br />\n<span style="color:#0000CD\;"><span style="font-family:comic sans ms\;"><span style="font-size:28px\;"><strong>&quot\;</strong></span><strong><span style="font-size:28px\;">Hilton Garden Inn Pittsburgh<br />\nArea Beaver Valley</span></strong></span><span style="font-family:comic sans ms\;"><span style="font-size:28px\;"><strong>&quot\;</strong></span></span></span><br />\n<br />\n<span style="font-family:arial\;"><span style="font-size:14px\;"><strong><span style="color:black\;">Hilton Garden Inn Pittsburgh Area/Beaver Valley</span></strong></span><span style="color:black\;">&nbsp\;offers modern guestrooms\, versatile meeting space\, and welcoming service ideal for business and leisure travelers. Conveniently located near major corporations\, shopping\, and the airport\, the hotel features on&#8209\;site dining\, a fitness center\, and flexible amenities that ensure comfort\, productivity\, and a seamless stay experience.</span></span><br />\n&nbsp\;</p>\n
LOCATION:Hilton Garden Inn Pgh. Area Beaver Valley 2000 Wagner Road Ext. South Monaca\, PA 15061
UID:e.2803.8608
SEQUENCE:3
DTSTAMP:20260422T212858Z
URL:https://www.paacc.com/events/details/bizblast-noon-hilton-garden-inn-pittsburgh-area-beaver-valley-8608
END:VEVENT

END:VCALENDAR
