BEGIN:VCALENDAR
VERSION:2.0
PRODID:-//ChamberMaster//Event Calendar 2.0//EN
METHOD:PUBLISH
X-PUBLISHED-TTL:P3D
REFRESH-INTERVAL:P3D
CALSCALE:GREGORIAN
BEGIN:VEVENT
DTSTART:20180926T220000Z
DTEND:20180926T233000Z
X-MICROSOFT-CDO-ALLDAYEVENT:FALSE
SUMMARY:Are you Overpaying for Your Insurance Coverage?
DESCRIPTION:Do you have too much or not enough life insurance and are there better ways to pay for the coverage?\n\n\n\nThis program will cover how insurance companies price auto and home policies and when you should have your policies reviewed and quoted.\n\n\n\nUnderstand how to get better coverage for little or no additional out of pockets costs.\n\n~~~~~~~~~~~~~\n\nFor more than 15 years\, Jim McGovern\, CFP\, CHFC\, CeXP\, has been educating and working with families in effective financial decision-making.\n\nHe has a tremendous passion for helping people make informed decisions so they can meet their objectives in the creation\, maximization\, protection\, and enjoyment of their wealth.
X-ALT-DESC;FMTTYPE=text/html:<p>&nbsp\;</p>\n\n<p style="text-align: center\;"><strong><span style="font-size:20px\;"><span style="font-family:arial\;">Do you have too much or not enough life insurance and are there better ways to pay for the coverage?<br />\n<br />\nThis program will cover how insurance companies price auto and home policies and when you should have your policies reviewed and quoted.<br />\n<br />\nUnderstand how to get better coverage for little or no additional out of pockets costs.<br />\n~~~~~~~~~~~~~</span></span></strong></p>\n\n<p style="text-align: center\;"><span style="font-size:14px\;"><span style="font-family:arial\;"><em>For more than 15 years\, Jim McGovern\, CFP\, CHFC\, CeXP\, has been educating and working with families in effective financial decision-making.<br />\nHe has a tremendous passion for helping people make informed decisions so they can meet their objectives in the creation\, maximization\, protection\, and enjoyment of their wealth.</em></span></span></p>\n
LOCATION:Western Allegheny Community Library 181 Bateman Road Oakdale\, PA 15071
UID:e.2803.5130
SEQUENCE:3
DTSTAMP:20260420T073542Z
URL:https://www.paacc.com/events/details/are-you-overpaying-for-your-insurance-coverage-09-26-2018-5130
END:VEVENT

END:VCALENDAR
