BEGIN:VCALENDAR
VERSION:2.0
PRODID:-//ChamberMaster//Event Calendar 2.0//EN
METHOD:PUBLISH
X-PUBLISHED-TTL:P3D
REFRESH-INTERVAL:P3D
CALSCALE:GREGORIAN
BEGIN:VEVENT
DTSTART:20180519T150000Z
DTEND:20180519T163000Z
X-MICROSOFT-CDO-ALLDAYEVENT:FALSE
SUMMARY:American Girl & Me Tea Party
DESCRIPTION:Join us for tea & treats\, games\, activities\,\n\ndoor prizes and more! \n\n\n\nBring your own American Girl doll or check out\n\none of our dolls to take to tea.  \n\n\n\nThis program is generously sponsored by\n\nCelebrations Bar and Grill.
X-ALT-DESC;FMTTYPE=text/html:<div style="text-align: center\;"><br />\n<span style="font-size:20px\;"><span style="font-family:arial\;">Join us for tea &amp\; treats\, games\, activities\,<br />\ndoor prizes and more!&nbsp\;<br />\n<br />\nBring your own American Girl doll or check out<br />\none of our dolls to take to tea.&nbsp\;&nbsp\;<br />\n<br />\nThis program is generously&nbsp\;sponsored by<br />\nCelebrations Bar and Grill.</span></span></div>\n
LOCATION:Western Allegheny Community Library 181 Bateman Road Oakdale\, PA 15071
UID:e.2803.4962
SEQUENCE:3
DTSTAMP:20260422T083412Z
URL:https://www.paacc.com/events/details/american-girl-and-me-tea-party-4962
END:VEVENT

END:VCALENDAR
