BEGIN:VCALENDAR
VERSION:2.0
PRODID:-//ChamberMaster//Event Calendar 2.0//EN
METHOD:PUBLISH
X-PUBLISHED-TTL:P3D
REFRESH-INTERVAL:P3D
CALSCALE:GREGORIAN
BEGIN:VEVENT
DTSTART:20181018T153000Z
DTEND:20181018T170000Z
X-MICROSOFT-CDO-ALLDAYEVENT:FALSE
SUMMARY:AMA Pgh Educational Eats: Project Management
DESCRIPTION:Herding Cats\, Project Management  .\n\nsame thing you say?\n\nWhat's the secret to project management? Multitasking\, Meetings\, Planning\, Budgeting? Interested in learning how to increase productivity\, lower stress and add dollars to the bottom line? It can be done.\n\nThe value of successfully leading projects and project teams\, large and small\, can't be under estimated. Done well It can be worth millions of dollars to your company. Project Marketing Associates' president Dave Oshlag will share how.\n\nYou'll leave understanding the touch points of what it takes to successfully manage projects\, along with a detailed reading list to help you continue building your knowledge base.\n\nDave Oshlag has been helping companies large and small stay organized and focus on successfully running marketing projects for more than 25 years. His specialty is being a strategic partner comfortable getting into the weeds when necessary without increasing overhead. He's best known for market research\, data analysis and getting marketing projects ramped up quickly.
X-ALT-DESC;FMTTYPE=text/html:<p>&nbsp\;</p>\n\n<h1 style="text-align: center\;"><span style="font-size:24px\;"><span style="font-family:arial\;">Herding Cats\, Project Management &hellip\;.<br />\nsame thing you say?</span></span></h1>\n\n<p style="text-align: center\;">What&rsquo\;s the secret to project management? Multitasking\, Meetings\, Planning\, Budgeting? Interested in learning how to increase productivity\, lower stress and add dollars to the bottom line? It can be done.</p>\n\n<p style="text-align: center\;">The value of successfully leading projects and project teams\, large and small\, can&rsquo\;t be under estimated. Done well It can be worth millions of dollars to your company. Project Marketing Associates&#39\; president Dave Oshlag will share how.</p>\n\n<p style="text-align: center\;">You&rsquo\;ll leave understanding the touch points of what it takes to successfully manage projects\, along with a detailed reading list to help you continue building your knowledge base.</p>\n\n<p style="text-align: center\;">Dave Oshlag has been helping companies large and small stay organized and focus on successfully running marketing projects for more than 25 years. His specialty is being a strategic partner comfortable getting into the weeds when necessary without increasing overhead. He&rsquo\;s best known for market research\, data analysis and getting marketing projects ramped up quickly.</p>\n
LOCATION:Vallozzi's Pittsburgh 220 Fifth Avenue Pittsburgh\, PA 15222
UID:e.2803.6255
SEQUENCE:3
DTSTAMP:20260419T195759Z
URL:https://www.paacc.com/events/details/ama-pgh-educational-eats-project-management-6255
END:VEVENT

END:VCALENDAR
