BEGIN:VCALENDAR
VERSION:2.0
PRODID:-//ChamberMaster//Event Calendar 2.0//EN
METHOD:PUBLISH
X-PUBLISHED-TTL:P3D
REFRESH-INTERVAL:P3D
CALSCALE:GREGORIAN
BEGIN:VEVENT
DTSTART:20180618T143000Z
DTEND:20180619T000000Z
X-MICROSOFT-CDO-ALLDAYEVENT:FALSE
SUMMARY:8th Annual Verland/John Siciliano State-of-the-Heart® Memorial Golf Tournament
DESCRIPTION:Join us on Monday\, June 18th\, for\n\nnetworking and golf at\n\nGreen Oaks Country Club in Verona\, PA.\n\nThe event features lunch\, $5\,000 cash hole-in-one prize\, skill prizes\, raffles\, silent auction\, and an awards dinner.\n\n\n\nAll proceeds from the event benefit Verland.\n\n\n\n~ Verland is a non-profit family of person-centered\, community homes and services supporting more than 256 individuals with intellectual disabilities\, many of whom have multiple physical challenges.\n\n~~~~~~~~~~~~~\n\n~ Verland's main campus has ten spacious homes with a complete continuum of options for those needing more support.\n\n~~~~~~~~~~~~~\n\n~ In addition\, residents in these homes have access to cutting-edge facilities that provide medical\, dental\, educational\, recreational\, and therapeutic services.\n\n~~~~~~~~~~~~~\n\n~ Professionally trained and caring staff are dedicated\n\nto addressing the complex needs of our clients.\n\n~~~~~~~~~~~~~\n\n~ Direct service professionals\, therapists\, nurses\, and managers provide a wide range of lifelong treatment and services through which each individual resides and functions in a comfortable\, dignified setting and lives the\n\nVerland State-of-the-Heart  lifestyle!
X-ALT-DESC;FMTTYPE=text/html:<h1 style="text-align: center\;"><br />\n<span style="font-family:arial\;"><span style="font-size:22px\;"><strong>Join us on Monday\, June 18th\, for<br />\nnetworking and golf at<br />\nGreen Oaks Country Club in Verona\, PA.</strong></span></span></h1>\n\n<p style="text-align: center\;"><span style="font-size:14px\;"><span style="font-family:arial\;"><span style="font-size:18px\;">The event features lunch\, $5\,000 cash hole-in-one prize\, skill prizes\, raffles\, silent auction\, and an awards dinner.<br />\n<br />\nAll proceeds from the event benefit Verland.</span><br />\n<br />\n<em>~ Verland is a non-profit family of person-centered\, community homes and services supporting more than 256 individuals with intellectual disabilities\, many of whom have multiple physical challenges.<br />\n~~~~~~~~~~~~~<br />\n~&nbsp\;Verland&#39\;s main campus has ten spacious homes with a complete continuum of options for those needing more support.<br />\n~~~~~~~~~~~~~<br />\n~ In addition\, residents in these homes have access to cutting-edge facilities that provide medical\, dental\, educational\, recreational\, and therapeutic services.<br />\n~~~~~~~~~~~~~<br />\n~ Professionally trained and caring staff are dedicated<br />\nto addressing the complex needs of our clients.<br />\n~~~~~~~~~~~~~<br />\n~ Direct service professionals\, therapists\, nurses\, and managers provide a wide range of lifelong treatment and services through which each individual resides and functions in a comfortable\, dignified setting and lives the<br />\nVerland State-of-the-Heart&reg\; lifestyle!</em></span></span></p>\n
LOCATION:Green Oaks Country Club 5741 Third Street Verona\, PA 15147
UID:e.2803.5136
SEQUENCE:3
DTSTAMP:20260422T220720Z
URL:https://www.paacc.com/events/details/8th-annual-verland-john-siciliano-state-of-the-heart-memorial-golf-tournament-5136
END:VEVENT

END:VCALENDAR
