BEGIN:VCALENDAR
VERSION:2.0
PRODID:-//ChamberMaster//Event Calendar 2.0//EN
METHOD:PUBLISH
X-PUBLISHED-TTL:P3D
REFRESH-INTERVAL:P3D
CALSCALE:GREGORIAN
BEGIN:VEVENT
DTSTART:20260509T150000Z
DTEND:20260509T180000Z
X-MICROSOFT-CDO-ALLDAYEVENT:FALSE
SUMMARY:5th Annual Steel City Duck Derby
DESCRIPTION:Adopt Ducks to race in the 5th Annual Steel City Duck Derby to win cash & other prizes!\n\n\n\nJoin us at the Pre-Derby Duck Festival before the launch of 10\,000 rubber ducks into Lake Elizabeth!\n\n\n\nThe 5th Annual Steel City Duck Derby is a fundraiser for Partners For Quality\; a nonprofit that supports nearly 5\,000 local individuals with intellectual disabilities and behavioral health challenges.\n\n\n\nRace to the finish line with the top 5 finishers winning cash and other prizes.\n\n\n\nThe Pre-Derby Duck Festival takes place at 11a.m. with food trucks\, face painting\, duck games\, music and more with the Derby Race starting at 1p.m.\n\n\n\nIt is a QUACKTASTIC time!
X-ALT-DESC;FMTTYPE=text/html:<span style="font-size:14px\;"><strong>Adopt Ducks to race in the 5th Annual Steel City Duck Derby to win cash &amp\; other prizes!</strong></span><br />\n<br />\nJoin us at the Pre-Derby Duck Festival before the launch of 10\,000 rubber ducks into Lake Elizabeth!<br />\n<br />\nThe 5th Annual Steel City Duck Derby is a fundraiser for Partners For Quality\; a nonprofit that supports nearly 5\,000 local individuals with intellectual disabilities and behavioral health challenges.<br />\n<br />\nRace to the finish line with the top 5 finishers winning cash and other prizes.<br />\n<br />\nThe Pre-Derby Duck Festival takes place at 11a.m. with food trucks\, face painting\, duck games\, music and more with the Derby Race starting at 1p.m.<br />\n<br />\n<span style="font-size:14px\;"><strong>It is a QUACKTASTIC time!</strong></span>
LOCATION:Allegheny Commons Park / Lake Elizabeth West Ohio Street Pittsburgh 15212
UID:e.2803.8609
SEQUENCE:3
DTSTAMP:20260423T224313Z
URL:https://www.paacc.com/events/details/5th-annual-steel-city-duck-derby-8609
END:VEVENT

END:VCALENDAR
