BEGIN:VCALENDAR
VERSION:2.0
PRODID:-//ChamberMaster//Event Calendar 2.0//EN
METHOD:PUBLISH
X-PUBLISHED-TTL:P3D
REFRESH-INTERVAL:P3D
CALSCALE:GREGORIAN
BEGIN:VEVENT
DTSTART:20180512T120000Z
DTEND:20180512T140000Z
X-MICROSOFT-CDO-ALLDAYEVENT:FALSE
SUMMARY:37th Annual Ohio Valley Hospital and Kennedy Township 5K
DESCRIPTION:Not many races can claim a 37 year history like Ohio Valley Hospital and Kennedy Township's community race.\n\nEach year\, we see competitive runners and families alike\n\ncomplete our hilly 5K course.\n\nIt's a community tradition that has changed from a 10K\n\nand bike race to a 5K\;\n\ndrawing a few hundred participants every year.\n\nWe hope you'll become part of our history\n\nby signing up for 2018.\n\nThe race is open to runners and walkers\n\n(dogs on a leash and strollers are welcome to try out the course\, as well).\n\nThe OVH and Kennedy Township race kicks off from the Hospital's main entrance at 8 a.m. on Saturday\, May 12\, 2018. \n\nOur DJ plays you off onto the hilly course\,\n\nand you're welcomed back with an\n\nawards ceremony and breakfast spread!\n\nPrizes will be awarded to the 1st\, 2nd\,\n\nand 3rd place male and female\,\n\nregardless of age\,\n\nwho cross the finish line.\n\nPacket pick-up will take place at Robinson EMS on\n\nThursday\, May 10 and Friday\, May 11 \n\nfrom 11:00 a.m. - 7:00 p.m.\n\nTheir address is 998 Church Hill Road\, Pittsburgh\, PA 15205.\n\nThey are located next to the Robinson Township library\n\nand behind the Robinson Township police station.\n\nIf this is not your first time running the OVH\n\nand Kennedy Township race\,\n\nwe'd love to hear from you!\n\nContact meaton@ohiovalleyhospital.org \n\nto share your story and pictures!\n\nYou may also pick up your race packet at the registration table\n\nin front of the Hospital's main entrance on race day.\n\nRace day registration and packet pick up will be available\n\nfrom 6:30 - 7:45 a.m. on the day of the race.\n\nBag check is available\; please\, no large bags\,\n\ncoolers\, or back packs.\n\nFree Parking is available on the day of the event in the OVH Medical Office Building parking lots and across the street at The Willows Senior Living Community.\n\nThe route roads will close around 7:30 a.m. and\n\nremain closed until about 9:00 - 9:30 a.m.\,\n\ndepending on the time the last participants cross the finish line.\n\nThese rolling road closures include parts of McKees Rocks Road\, Heckel Road\, Fairhaven Road\, and Pine Hollow Road.\n\nRace shirts are guaranteed to the first\n\n200 registered participants.\n\nYou must sign a waiver to race.
X-ALT-DESC;FMTTYPE=text/html:<div style="text-align: center\;"><span style="font-size:18px\;"><span style="font-family:arial\;">Not many races can claim a 37 year history like Ohio Valley Hospital and Kennedy Township&#39\;s community race.<br />\nEach year\, we see competitive runners and families alike<br />\ncomplete our hilly 5K course.</span></span></div>\n\n<p style="text-align: center\;"><span style="font-size:18px\;"><span style="font-family:arial\;">It&#39\;s a community tradition that has changed from a 10K<br />\nand bike&nbsp\;race to a 5K\;<br />\ndrawing a few hundred&nbsp\;participants every year.<br />\nWe hope you&#39\;ll become part of our history<br />\nby signing up for 2018.</span></span></p>\n\n<p style="text-align: center\;"><span style="font-size:18px\;"><span style="font-family:arial\;">The race&nbsp\;is open to runners and walkers<br />\n(dogs on a leash and strollers are welcome to try out the course\, as well).</span></span></p>\n\n<p style="text-align: center\;"><span style="font-size:18px\;"><span style="font-family:arial\;">The OVH and Kennedy Township&nbsp\;race kicks off from the Hospital&#39\;s main entrance at 8&nbsp\;a.m. on Saturday\, May 12\,&nbsp\;2018.&nbsp\;<br />\nOur DJ plays you off onto the hilly course\,<br />\nand you&#39\;re welcomed back with an<br />\nawards ceremony and breakfast spread!</span></span></p>\n\n<p style="text-align: center\;"><span style="font-size:18px\;"><span style="font-family:arial\;">Prizes will be awarded to the 1st\, 2nd\,<br />\nand&nbsp\;3rd place male and female\,<br />\nregardless of age\,<br />\nwho cross the finish line.</span></span></p>\n\n<p style="text-align: center\;"><span style="font-size:18px\;"><span style="font-family:arial\;">Packet pick-up will take place at Robinson EMS on<br />\nThursday\, May 10&nbsp\;and Friday\, May 11&nbsp\;<br />\nfrom 11:00 a.m. - 7:00 p.m.<br />\nTheir address is 998 Church Hill Road\, Pittsburgh\, PA 15205.<br />\nThey are located next to the Robinson Township library<br />\nand behind the Robinson Township&nbsp\;police station.</span></span></p>\n\n<p style="text-align: center\;"><span style="font-size:18px\;"><span style="font-family:arial\;">If this is not your first time running the OVH<br />\nand Kennedy Township race\,<br />\nwe&#39\;d love to hear from you!<br />\nContact&nbsp\;<a href="mailto:meaton@ohiovalleyhospital.org">meaton@ohiovalleyhospital.org</a>&nbsp\;<br />\nto share your story and pictures!</span></span></p>\n\n<p style="text-align: center\;"><span style="font-size:18px\;"><span style="font-family:arial\;">You may also pick up your race packet at the registration table<br />\nin front of the Hospital&#39\;s main entrance on race day.<br />\nRace day registration and packet pick up&nbsp\;will be available<br />\nfrom 6:30 - 7:45 a.m. on the day of the race.</span></span></p>\n\n<p style="text-align: center\;"><span style="font-size:18px\;"><span style="font-family:arial\;">Bag check is available\; please\, no large bags\,<br />\ncoolers\, or back packs.</span></span></p>\n\n<p style="text-align: center\;"><span style="font-size:18px\;"><span style="font-family:arial\;">Free Parking is available on&nbsp\;the day of the event in the&nbsp\;OVH Medical Office Building parking lots&nbsp\;and across the street at The Willows Senior Living Community.</span></span></p>\n\n<p style="text-align: center\;"><span style="font-size:18px\;"><span style="font-family:arial\;">The route roads will close around 7:30 a.m. and<br />\nremain closed until about 9:00 - 9:30 a.m.\,<br />\ndepending on the time the last participants cross the finish line.<br />\nThese rolling road closures include parts of McKees Rocks Road\, Heckel Road\, Fairhaven Road\, and Pine Hollow Road.</span></span></p>\n\n<p style="text-align: center\;"><span style="font-size:18px\;"><span style="font-family:arial\;">Race shirts are guaranteed to the first<br />\n200 registered participants.<br />\nYou must sign a waiver to race.</span></span></p>\n
LOCATION:Ohio Valley Hospital 25 Heckel Road Kennedy Township\, PA 15136
UID:e.2803.5126
SEQUENCE:3
DTSTAMP:20260422T212336Z
URL:https://www.paacc.com/events/details/37th-annual-ohio-valley-hospital-and-kennedy-township-5k-5126
END:VEVENT

END:VCALENDAR
