BEGIN:VCALENDAR
VERSION:2.0
PRODID:-//ChamberMaster//Event Calendar 2.0//EN
METHOD:PUBLISH
X-PUBLISHED-TTL:P3D
REFRESH-INTERVAL:P3D
CALSCALE:GREGORIAN
BEGIN:VEVENT
DTSTART:20180502T220000Z
DTEND:20180502T230000Z
X-MICROSOFT-CDO-ALLDAYEVENT:FALSE
SUMMARY:2019 Portugal and the Douro River Cruise Information Meeting
DESCRIPTION:
X-ALT-DESC;FMTTYPE=text/html:
LOCATION:Pittsburgh Airport Area Chamber of Commerce Conference Room 850 Beaver Grade Road\, Suite 101 Moon Township\, PA 15108
UID:e.2803.2957
SEQUENCE:3
DTSTAMP:20260422T203324Z
URL:https://www.paacc.com/events/details/2019-portugal-and-the-douro-river-cruise-information-meeting-2957
END:VEVENT

END:VCALENDAR
